BEGIN:VCALENDAR
VERSION:2.0
PRODID:-//Phoenix International Christian Church - ECPv6.15.20//NONSGML v1.0//EN
CALSCALE:GREGORIAN
METHOD:PUBLISH
X-WR-CALNAME:Phoenix International Christian Church
X-ORIGINAL-URL:https://phxicc.org
X-WR-CALDESC:Events for Phoenix International Christian Church
REFRESH-INTERVAL;VALUE=DURATION:PT1H
X-Robots-Tag:noindex
X-PUBLISHED-TTL:PT1H
BEGIN:VTIMEZONE
TZID:America/Phoenix
BEGIN:STANDARD
TZOFFSETFROM:-0700
TZOFFSETTO:-0700
TZNAME:MST
DTSTART:20250101T000000
END:STANDARD
END:VTIMEZONE
BEGIN:VEVENT
DTSTART;TZID=America/Phoenix:20260603T193000
DTEND;TZID=America/Phoenix:20260603T210000
DTSTAMP:20260424T152456
CREATED:20260405T051138Z
LAST-MODIFIED:20260405T051251Z
UID:19240-1780515000-1780520400@phxicc.org
SUMMARY:Women's Midweek Service
DESCRIPTION:Ladies\, join us for a soul-nourishing midweek gathering! Your presence and insights are cherished as we explore how we\, as a sisterhood\, can contribute to the well-being of our faith community. Let’s grow together in faith\, fellowship\, and support. See you at our women’s midweek service!
URL:https://phxicc.org/service/womens-midweek-service-4/
LOCATION:Phoenix International Christian Church\, 5902 E Camelback Rd\, Phoenix\, AZ\, United States
END:VEVENT
BEGIN:VEVENT
DTSTART;TZID=America/Phoenix:20260610T193000
DTEND;TZID=America/Phoenix:20260610T210000
DTSTAMP:20260424T152456
CREATED:20260405T041838Z
LAST-MODIFIED:20260405T041838Z
UID:19199-1781119800-1781125200@phxicc.org
SUMMARY:Men's Midweek Service
DESCRIPTION:Gentlemen\, step into a space of strength and camaraderie at Midweek Men’s Gathering! Join us for an evening tailored for the modern man seeking inspiration and connection. As we gather in unity\, we’ll engage in a dynamic devotional themed around embracing new horizons and fresh opportunities. This is a chance for fellowship\, honest conversations\, and building bonds.
URL:https://phxicc.org/service/mens-midweek-service-5/
LOCATION:Phoenix International Christian Church\, 5902 E Camelback Rd\, Phoenix\, AZ\, United States
END:VEVENT
BEGIN:VEVENT
DTSTART;TZID=America/Phoenix:20260617T193000
DTEND;TZID=America/Phoenix:20260617T210000
DTSTAMP:20260424T152456
CREATED:20260405T051448Z
LAST-MODIFIED:20260405T051448Z
UID:19242-1781724600-1781730000@phxicc.org
SUMMARY:Women's Midweek Service
DESCRIPTION:Ladies\, join us for a soul-nourishing midweek gathering! Your presence and insights are cherished as we explore how we\, as a sisterhood\, can contribute to the well-being of our faith community. Let’s grow together in faith\, fellowship\, and support. See you at our women’s midweek service!
URL:https://phxicc.org/service/womens-midweek-service-5/
LOCATION:Phoenix International Christian Church\, 5902 E Camelback Rd\, Phoenix\, AZ\, United States
END:VEVENT
BEGIN:VEVENT
DTSTART;TZID=America/Phoenix:20260624T193000
DTEND;TZID=America/Phoenix:20260624T210000
DTSTAMP:20260424T152456
CREATED:20260405T041945Z
LAST-MODIFIED:20260405T041945Z
UID:19201-1782329400-1782334800@phxicc.org
SUMMARY:Men's Midweek Service
DESCRIPTION:Gentlemen\, step into a space of strength and camaraderie at Midweek Men’s Gathering! Join us for an evening tailored for the modern man seeking inspiration and connection. As we gather in unity\, we’ll engage in a dynamic devotional themed around embracing new horizons and fresh opportunities. This is a chance for fellowship\, honest conversations\, and building bonds.
URL:https://phxicc.org/service/mens-midweek-service-6/
LOCATION:Phoenix International Christian Church\, 5902 E Camelback Rd\, Phoenix\, AZ\, United States
END:VEVENT
END:VCALENDAR