BEGIN:VCALENDAR
VERSION:2.0
PRODID:-//Phoenix International Christian Church - ECPv6.15.20//NONSGML v1.0//EN
CALSCALE:GREGORIAN
METHOD:PUBLISH
X-ORIGINAL-URL:https://phxicc.org
X-WR-CALDESC:Events for Phoenix International Christian Church
REFRESH-INTERVAL;VALUE=DURATION:PT1H
X-Robots-Tag:noindex
X-PUBLISHED-TTL:PT1H
BEGIN:VTIMEZONE
TZID:America/Phoenix
BEGIN:STANDARD
TZOFFSETFROM:-0700
TZOFFSETTO:-0700
TZNAME:MST
DTSTART:20250101T000000
END:STANDARD
END:VTIMEZONE
BEGIN:VEVENT
DTSTART;TZID=America/Phoenix:20260506T193000
DTEND;TZID=America/Phoenix:20260506T210000
DTSTAMP:20260424T133728
CREATED:20260405T051004Z
LAST-MODIFIED:20260405T051004Z
UID:19236-1778095800-1778101200@phxicc.org
SUMMARY:Women's Midweek Service
DESCRIPTION:Ladies\, join us for a soul-nourishing midweek gathering! Your presence and insights are cherished as we explore how we\, as a sisterhood\, can contribute to the well-being of our faith community. Let’s grow together in faith\, fellowship\, and support. See you at our women’s midweek service!
URL:https://phxicc.org/service/womens-midweek-service-2/
LOCATION:Phoenix International Christian Church\, 5902 E Camelback Rd\, Phoenix\, AZ\, United States
END:VEVENT
BEGIN:VEVENT
DTSTART;TZID=America/Phoenix:20260513T193000
DTEND;TZID=America/Phoenix:20260513T210000
DTSTAMP:20260424T133728
CREATED:20260405T041247Z
LAST-MODIFIED:20260405T041247Z
UID:19193-1778700600-1778706000@phxicc.org
SUMMARY:Men's Midweek Service
DESCRIPTION:Gentlemen\, step into a space of strength and camaraderie at Midweek Men’s Gathering! Join us for an evening tailored for the modern man seeking inspiration and connection. As we gather in unity\, we’ll engage in a dynamic devotional themed around embracing new horizons and fresh
URL:https://phxicc.org/service/mens-midweek-service-4/
LOCATION:Phoenix International Christian Church\, 5902 E Camelback Rd\, Phoenix\, AZ\, United States
END:VEVENT
BEGIN:VEVENT
DTSTART;TZID=America/Phoenix:20260517T100000
DTEND;TZID=America/Phoenix:20260517T120000
DTSTAMP:20260424T133728
CREATED:20260405T050530Z
LAST-MODIFIED:20260405T050530Z
UID:19232-1779012000-1779019200@phxicc.org
SUMMARY:Special Missions Sunday Service
DESCRIPTION:The Sunday Church Service is the heartbeat of the faith community\, where believers come together to worship\, learn\, and experience the presence of God. Held each week\, this sacred gathering provides a time of spiritual rejuvenation and deepening of one’s relationship with God and fellow worshippers. With uplifting music\, heartfelt prayers\, and impactful sermons\, the Sunday Church Service offers a meaningful and transformative experience for all who attend.
URL:https://phxicc.org/service/special-missions-sunday-service/
LOCATION:Phoenix International Christian Church\, 5902 E Camelback Rd\, Phoenix\, AZ\, United States
END:VEVENT
BEGIN:VEVENT
DTSTART;TZID=America/Phoenix:20260520T193000
DTEND;TZID=America/Phoenix:20260520T210000
DTSTAMP:20260424T133728
CREATED:20260405T051049Z
LAST-MODIFIED:20260405T051049Z
UID:19238-1779305400-1779310800@phxicc.org
SUMMARY:Women's Midweek Service
DESCRIPTION:Ladies\, join us for a soul-nourishing midweek gathering! Your presence and insights are cherished as we explore how we\, as a sisterhood\, can contribute to the well-being of our faith community. Let’s grow together in faith\, fellowship\, and support. See you at our women’s midweek service!
URL:https://phxicc.org/service/womens-midweek-service-3/
LOCATION:Phoenix International Christian Church\, 5902 E Camelback Rd\, Phoenix\, AZ\, United States
END:VEVENT
BEGIN:VEVENT
DTSTART;TZID=America/Phoenix:20260527T193000
DTEND;TZID=America/Phoenix:20260527T210000
DTSTAMP:20260424T133728
CREATED:20260405T041338Z
LAST-MODIFIED:20260405T041613Z
UID:19195-1779910200-1779915600@phxicc.org
SUMMARY:Men's Midweek Services
DESCRIPTION:Gentlemen\, step into a space of strength and camaraderie at Midweek Men’s Gathering! Join us for an evening tailored for the modern man seeking inspiration and connection. As we gather in unity\, we’ll engage in a dynamic devotional themed around embracing new horizons and fresh opportunities. This is a chance for fellowship\, honest conversations\, and building bonds.
URL:https://phxicc.org/service/mens-midweek-services/
LOCATION:Phoenix International Christian Church\, 5902 E Camelback Rd\, Phoenix\, AZ\, United States
END:VEVENT
BEGIN:VEVENT
DTSTART;TZID=America/Phoenix:20260531T140000
DTEND;TZID=America/Phoenix:20260531T160000
DTSTAMP:20260424T133728
CREATED:20260405T045759Z
LAST-MODIFIED:20260405T052905Z
UID:19230-1780236000-1780243200@phxicc.org
SUMMARY:New Members Celebration
DESCRIPTION:Welcome to our church family! We are beyond thrilled to have you join us on this faith-filled journey. Our New Members Orientation is a laid-back and friendly gathering designed to help you feel right at home. Questions are not just welcomed but encouraged! Feel free to ask anything on your mind\, from church traditions to how you can get involved in the incredible work we do here.
URL:https://phxicc.org/service/new-members-orientation-2/
LOCATION:Phoenix International Christian Church\, 5902 E Camelback Rd\, Phoenix\, AZ\, United States
ATTACH;FMTTYPE=image/jpeg:https://phxicc.org/wp-content/uploads/2023/03/IMG_1323-scaled.jpg
END:VEVENT
END:VCALENDAR