BEGIN:VCALENDAR
VERSION:2.0
PRODID:-//Phoenix International Christian Church - ECPv6.15.20//NONSGML v1.0//EN
CALSCALE:GREGORIAN
METHOD:PUBLISH
X-WR-CALNAME:Phoenix International Christian Church
X-ORIGINAL-URL:https://phxicc.org
X-WR-CALDESC:Events for Phoenix International Christian Church
REFRESH-INTERVAL;VALUE=DURATION:PT1H
X-Robots-Tag:noindex
X-PUBLISHED-TTL:PT1H
BEGIN:VTIMEZONE
TZID:America/Phoenix
BEGIN:STANDARD
TZOFFSETFROM:-0700
TZOFFSETTO:-0700
TZNAME:MST
DTSTART:20220101T000000
END:STANDARD
END:VTIMEZONE
BEGIN:VEVENT
DTSTART;TZID=America/Phoenix:20230825T193000
DTEND;TZID=America/Phoenix:20230825T193000
DTSTAMP:20260425T192316
CREATED:20230719T042736Z
LAST-MODIFIED:20230819T213704Z
UID:18494-1692991800-1692991800@phxicc.org
SUMMARY:Freedom Fighters Bible Talk
DESCRIPTION:Weekly Bible discussions for single professionals and married couples in the Tempe area! Contact Kelvin Ashton for details.
URL:https://phxicc.org/service/freedom-fighters-bible-talk-5/
LOCATION:Smash Burger\, 2000 E Rio Salado Pkwy\, Tempe\, AZ\, 85281
ATTACH;FMTTYPE=image/jpeg:https://phxicc.org/wp-content/uploads/2023/06/IMG_5125-scaled.jpg
END:VEVENT
BEGIN:VEVENT
DTSTART;TZID=America/Phoenix:20230824T193000
DTEND;TZID=America/Phoenix:20230824T193000
DTSTAMP:20260425T192316
CREATED:20230719T042721Z
LAST-MODIFIED:20230719T053658Z
UID:18489-1692905400-1692905400@phxicc.org
SUMMARY:Diamond Brigade – ASU
DESCRIPTION:Weekly Bible discussions for students at Arizona State University! Contact Mike Sibley for details.
URL:https://phxicc.org/service/diamond-brigade-asu-4/
LOCATION:Panera Bread\, 2000 Rio Salado Pkwy\, Tempe\, AZ\, 85281\, United States
ATTACH;FMTTYPE=image/jpeg:https://phxicc.org/wp-content/uploads/2023/06/IMG_4774-scaled.jpg
END:VEVENT
BEGIN:VEVENT
DTSTART;TZID=America/Phoenix:20230824T193000
DTEND;TZID=America/Phoenix:20230824T193000
DTSTAMP:20260425T192316
CREATED:20230719T041244Z
LAST-MODIFIED:20230719T053745Z
UID:18466-1692905400-1692905400@phxicc.org
SUMMARY:The Way Bible Talk
DESCRIPTION:Weekly Bible discussions for single professionals and married couples in the Tempe area! Contact King Burke for details.
URL:https://phxicc.org/service/the-way-bible-talk-4/
LOCATION:Arizona Mills\, 5000 S Arizona Mills Cir.\, Tempe\, AZ\, 85282\, United States
ATTACH;FMTTYPE=image/jpeg:https://phxicc.org/wp-content/uploads/2023/06/IMG_4770-scaled.jpg
END:VEVENT
BEGIN:VEVENT
DTSTART;TZID=America/Phoenix:20230824T193000
DTEND;TZID=America/Phoenix:20230824T193000
DTSTAMP:20260425T192316
CREATED:20230719T041206Z
LAST-MODIFIED:20230719T053834Z
UID:18460-1692905400-1692905400@phxicc.org
SUMMARY:SHIELD Bible Talk
DESCRIPTION:Weekly Bible discussions for single professionals and married couples in the Tempe area! Contact Lem Hardy for details.
URL:https://phxicc.org/service/shield-bible-talk-5/
LOCATION:Gadzooks\, 505 W University Dr\, Tempe\, AZ\, 85281\, United States
ATTACH;FMTTYPE=image/jpeg:https://phxicc.org/wp-content/uploads/2023/06/IMG_4784-scaled.jpg
END:VEVENT
BEGIN:VEVENT
DTSTART;TZID=America/Phoenix:20230824T193000
DTEND;TZID=America/Phoenix:20230824T193000
DTSTAMP:20260425T192316
CREATED:20230719T041105Z
LAST-MODIFIED:20230719T054840Z
UID:18454-1692905400-1692905400@phxicc.org
SUMMARY:Guardienes De La Fe Bible Talk
DESCRIPTION:¡Discusiones bíblicas semanales en español para solteros y parejas casadas en el área de Phoenix! Póngase en contacto con Jorge para obtener más detalles.
URL:https://phxicc.org/service/guardienes-de-la-fe-bible-talk-4/
LOCATION:Ranch Market\, 1602 E Roosevelt St.\, Phoenix\, AZ\, 85006\, United States
ATTACH;FMTTYPE=image/jpeg:https://phxicc.org/wp-content/uploads/2023/06/IMG_4780-scaled.jpg
END:VEVENT
BEGIN:VEVENT
DTSTART;TZID=America/Phoenix:20230824T190000
DTEND;TZID=America/Phoenix:20230824T190000
DTSTAMP:20260425T192316
CREATED:20230719T042705Z
LAST-MODIFIED:20230719T054740Z
UID:18484-1692903600-1692903600@phxicc.org
SUMMARY:Mountain Movers Bible Talk
DESCRIPTION:Weekly Bible discussions for married couples and single professionals alike! Contact Chas Jordan for details.
URL:https://phxicc.org/service/mountain-movers-bible-talk-4/
LOCATION:Habit Burger\, 530 W McDowell Rd\, Phoenix\, AZ\, 85003\, United States
ATTACH;FMTTYPE=image/jpeg:https://phxicc.org/wp-content/uploads/2023/05/IMG_2733-scaled.jpg
END:VEVENT
BEGIN:VEVENT
DTSTART;TZID=America/Phoenix:20230824T190000
DTEND;TZID=America/Phoenix:20230824T190000
DTSTAMP:20260425T192316
CREATED:20230719T042703Z
LAST-MODIFIED:20230719T054640Z
UID:18479-1692903600-1692903600@phxicc.org
SUMMARY:Diamond Brigade – GCU
DESCRIPTION:Weekly Bible discussions for students on Grand Canyon University! Contact Levi Pettigrew for details.
URL:https://phxicc.org/service/diamond-brigade-gcu-4/
LOCATION:GCU\, 3300 W Camelback Rd Student Union GCBC\, 2nd Floor\, Phoenix\, AZ\, 85017\, United States
ATTACH;FMTTYPE=image/jpeg:https://phxicc.org/wp-content/uploads/2023/06/IMG_4787-scaled.jpg
END:VEVENT
BEGIN:VEVENT
DTSTART;TZID=America/Phoenix:20230823T193000
DTEND;TZID=America/Phoenix:20230823T210000
DTSTAMP:20260425T192316
CREATED:20230719T065241Z
LAST-MODIFIED:20230719T065241Z
UID:18599-1692819000-1692824400@phxicc.org
SUMMARY:Men's Midweek
DESCRIPTION:Men’s Midweek is an invigorating church event specifically tailored to meet the needs and challenges faced by men in their spiritual journeys. This midweek gathering offers a dedicated space for men to come together\, build relationships\, and explore their faith in a supportive environment. Through dynamic worship\, relevant teachings\, and interactive discussions\, Men’s Midweek aims to equip men with the tools they need to navigate the complexities of life with courage\, integrity\, and purpose.
URL:https://phxicc.org/service/mens-midweek-3/
LOCATION:Phoenix International Christian Church\, 5902 E Camelback Rd\, Phoenix\, AZ\, United States
ATTACH;FMTTYPE=image/jpeg:https://phxicc.org/wp-content/uploads/2023/04/339664177_919444629100578_4663171761306902214_n.jpg
END:VEVENT
BEGIN:VEVENT
DTSTART;TZID=America/Phoenix:20230822T193000
DTEND;TZID=America/Phoenix:20230822T193000
DTSTAMP:20260425T192316
CREATED:20230719T041311Z
LAST-MODIFIED:20230719T054557Z
UID:18472-1692732600-1692732600@phxicc.org
SUMMARY:Northern Lights
DESCRIPTION:Weekly Bible discussions for mature and/or married christians shining the light of Jesus in Northern Phoenix. Contact Jason McNeil for details.
URL:https://phxicc.org/service/northern-lights-4/
LOCATION:Daily Drip Coffee & Dessert\, 6027 W Bell Rd\, ste b\, Glendale\, AZ\, 85308\, United States
ATTACH;FMTTYPE=image/jpeg:https://phxicc.org/wp-content/uploads/2023/06/IMG_4777-scaled.jpg
END:VEVENT
BEGIN:VEVENT
DTSTART;TZID=America/Phoenix:20230822T193000
DTEND;TZID=America/Phoenix:20230822T193000
DTSTAMP:20260425T192316
CREATED:20230719T035531Z
LAST-MODIFIED:20230719T054458Z
UID:18437-1692732600-1692732600@phxicc.org
SUMMARY:Straight Up Bible Talk
DESCRIPTION:Weekly Bible discussions for single professionals and married couples in the Tempe area! Contact Christian Ybarra for details.
URL:https://phxicc.org/service/straight-up-bible-talk-5/
LOCATION:Black Rock Coffee\, 1202 W Broadway Rd\, Tempe\, AZ\, 85282\, United States
ATTACH;FMTTYPE=image/jpeg:https://phxicc.org/wp-content/uploads/2023/06/IMG_4791-scaled.jpg
END:VEVENT
BEGIN:VEVENT
DTSTART;TZID=America/Phoenix:20230822T120000
DTEND;TZID=America/Phoenix:20230822T120000
DTSTAMP:20260425T192316
CREATED:20230719T040036Z
LAST-MODIFIED:20230719T054137Z
UID:18444-1692705600-1692705600@phxicc.org
SUMMARY:He Knows My Name Bible Talk
DESCRIPTION:Weekly Bible discussions for mature single women. Contact Arleen Proto for details.
URL:https://phxicc.org/service/he-knows-my-name-4/
LOCATION:Alabastar Jar\, 2050 W Dunlap Ave Lot 0235\, Phoenix\, AZ\, 85021\, United States
ATTACH;FMTTYPE=image/jpeg:https://phxicc.org/wp-content/uploads/2023/06/IMG_4798-scaled.jpg
END:VEVENT
BEGIN:VEVENT
DTSTART;TZID=America/Phoenix:20230820T100000
DTEND;TZID=America/Phoenix:20230820T120000
DTSTAMP:20260425T192317
CREATED:20230719T043832Z
LAST-MODIFIED:20230719T050639Z
UID:18500-1692525600-1692532800@phxicc.org
SUMMARY:Sunday Service
DESCRIPTION:The Sunday Church Service is the heartbeat of the faith community\, where believers come together to worship\, learn\, and experience the presence of God. Held each week\, this sacred gathering provides a time of spiritual rejuvenation and deepening of one’s relationship with God and fellow worshippers. With uplifting music\, heartfelt prayers\, and impactful sermons\, the Sunday Church Service offers a meaningful and transformative experience for all who attend.
URL:https://phxicc.org/service/sunday-service-2/
LOCATION:Phoenix International Christian Church\, 5902 E Camelback Rd\, Phoenix\, AZ\, United States
ATTACH;FMTTYPE=image/jpeg:https://phxicc.org/wp-content/uploads/2023/07/IMG_5022-scaled.jpg
END:VEVENT
BEGIN:VEVENT
DTSTART;TZID=America/Phoenix:20230818T193000
DTEND;TZID=America/Phoenix:20230818T193000
DTSTAMP:20260425T192317
CREATED:20230719T042736Z
LAST-MODIFIED:20230719T054103Z
UID:18493-1692387000-1692387000@phxicc.org
SUMMARY:Freedom Fighters Bible Talk
DESCRIPTION:Weekly Bible discussions for single professionals and married couples in the Tempe area! Contact Kelvin Ashton for details.
URL:https://phxicc.org/service/freedom-fighters-bible-talk-4/
LOCATION:ASU Tempe Campus\, 400 E Orange\, Tempe\, AZ\, 85281\, United States
ATTACH;FMTTYPE=image/jpeg:https://phxicc.org/wp-content/uploads/2023/06/IMG_5125-scaled.jpg
END:VEVENT
BEGIN:VEVENT
DTSTART;TZID=America/Phoenix:20230817T193000
DTEND;TZID=America/Phoenix:20230817T193000
DTSTAMP:20260425T192317
CREATED:20230719T042721Z
LAST-MODIFIED:20230719T054014Z
UID:18488-1692300600-1692300600@phxicc.org
SUMMARY:Diamond Brigade – ASU
DESCRIPTION:Weekly Bible discussions for students at Arizona State University! Contact Mike Sibley for details.
URL:https://phxicc.org/service/diamond-brigade-asu-3/
LOCATION:Panera Bread\, 2000 Rio Salado Pkwy\, Tempe\, AZ\, 85281\, United States
ATTACH;FMTTYPE=image/jpeg:https://phxicc.org/wp-content/uploads/2023/06/IMG_4774-scaled.jpg
END:VEVENT
BEGIN:VEVENT
DTSTART;TZID=America/Phoenix:20230817T193000
DTEND;TZID=America/Phoenix:20230817T193000
DTSTAMP:20260425T192317
CREATED:20230719T041244Z
LAST-MODIFIED:20230719T063333Z
UID:18465-1692300600-1692300600@phxicc.org
SUMMARY:The Way Bible Talk
DESCRIPTION:Weekly Bible discussions for single professionals and married couples in the Tempe area! Contact King Burke for details.
URL:https://phxicc.org/service/the-way-bible-talk-3/
LOCATION:Arizona Mills\, 5000 S Arizona Mills Cir.\, Tempe\, AZ\, 85282\, United States
ATTACH;FMTTYPE=image/jpeg:https://phxicc.org/wp-content/uploads/2023/06/IMG_4770-scaled.jpg
END:VEVENT
BEGIN:VEVENT
DTSTART;TZID=America/Phoenix:20230817T193000
DTEND;TZID=America/Phoenix:20230817T193000
DTSTAMP:20260425T192317
CREATED:20230719T041206Z
LAST-MODIFIED:20230719T063249Z
UID:18459-1692300600-1692300600@phxicc.org
SUMMARY:SHIELD Bible Talk
DESCRIPTION:Weekly Bible discussions for single professionals and married couples in the Tempe area! Contact Lem Hardy for details.
URL:https://phxicc.org/service/shield-bible-talk-4/
LOCATION:Gadzooks\, 505 W University Dr\, Tempe\, AZ\, 85281\, United States
ATTACH;FMTTYPE=image/jpeg:https://phxicc.org/wp-content/uploads/2023/06/IMG_4784-scaled.jpg
END:VEVENT
BEGIN:VEVENT
DTSTART;TZID=America/Phoenix:20230817T193000
DTEND;TZID=America/Phoenix:20230817T193000
DTSTAMP:20260425T192317
CREATED:20230719T041105Z
LAST-MODIFIED:20230719T063147Z
UID:18453-1692300600-1692300600@phxicc.org
SUMMARY:Guardienes De La Fe Bible Talk
DESCRIPTION:¡Discusiones bíblicas semanales en español para solteros y parejas casadas en el área de Phoenix! Póngase en contacto con Jorge para obtener más detalles.
URL:https://phxicc.org/service/guardienes-de-la-fe-bible-talk-3/
LOCATION:Ranch Market\, 1602 E Roosevelt St.\, Phoenix\, AZ\, 85006\, United States
ATTACH;FMTTYPE=image/jpeg:https://phxicc.org/wp-content/uploads/2023/06/IMG_4780-scaled.jpg
END:VEVENT
BEGIN:VEVENT
DTSTART;TZID=America/Phoenix:20230817T190000
DTEND;TZID=America/Phoenix:20230817T190000
DTSTAMP:20260425T192317
CREATED:20230719T042705Z
LAST-MODIFIED:20230719T063053Z
UID:18483-1692298800-1692298800@phxicc.org
SUMMARY:Mountain Movers Bible Talk
DESCRIPTION:Weekly Bible discussions for married couples and single professionals alike! Contact Chas Jordan for details.
URL:https://phxicc.org/service/mountain-movers-bible-talk-3/
LOCATION:Habit Burger\, 530 W McDowell Rd\, Phoenix\, AZ\, 85003\, United States
ATTACH;FMTTYPE=image/jpeg:https://phxicc.org/wp-content/uploads/2023/05/IMG_2733-scaled.jpg
END:VEVENT
BEGIN:VEVENT
DTSTART;TZID=America/Phoenix:20230817T190000
DTEND;TZID=America/Phoenix:20230817T190000
DTSTAMP:20260425T192317
CREATED:20230719T042702Z
LAST-MODIFIED:20230719T063008Z
UID:18478-1692298800-1692298800@phxicc.org
SUMMARY:Diamond Brigade – GCU
DESCRIPTION:Weekly Bible discussions for students on Grand Canyon University! Contact Levi Pettigrew for details.
URL:https://phxicc.org/service/diamond-brigade-gcu-3/
LOCATION:GCU\, 3300 W Camelback Rd Student Union GCBC\, 2nd Floor\, Phoenix\, AZ\, 85017\, United States
ATTACH;FMTTYPE=image/jpeg:https://phxicc.org/wp-content/uploads/2023/06/IMG_4787-scaled.jpg
END:VEVENT
BEGIN:VEVENT
DTSTART;TZID=America/Phoenix:20230816T193000
DTEND;TZID=America/Phoenix:20230816T210000
DTSTAMP:20260425T192317
CREATED:20230719T063702Z
LAST-MODIFIED:20230719T064017Z
UID:18593-1692214200-1692219600@phxicc.org
SUMMARY:Women’s Midweek
DESCRIPTION:Women’s Midweek is a vibrant and empowering church event designed specifically for women to gather\, connect\, and grow in their faith. Held in the middle of the week\, it offers a refreshing break from the busyness of everyday life and provides a nurturing environment for women to come together and explore their spirituality. The event features engaging worship sessions\, thought-provoking teachings\, and interactive discussions tailored to address the unique needs and experiences of women. With a focus on building relationships\, Women’s Midweek fosters a sense of community and sisterhood\, offering opportunities for women to share their stories\, support one another\, and find inspiration for their spiritual journeys.
URL:https://phxicc.org/service/womens-midweek-3/
LOCATION:Phoenix International Christian Church\, 5902 E Camelback Rd\, Phoenix\, AZ\, United States
ATTACH;FMTTYPE=image/jpeg:https://phxicc.org/wp-content/uploads/2023/04/337897988_916938789351740_5565621620864869260_n.jpg
END:VEVENT
BEGIN:VEVENT
DTSTART;TZID=America/Phoenix:20230815T193000
DTEND;TZID=America/Phoenix:20230815T193000
DTSTAMP:20260425T192317
CREATED:20230719T041311Z
LAST-MODIFIED:20230719T062823Z
UID:18471-1692127800-1692127800@phxicc.org
SUMMARY:Northern Lights
DESCRIPTION:Weekly Bible discussions for mature and/or married christians shining the light of Jesus in Northern Phoenix. Contact Jason McNeil for details.
URL:https://phxicc.org/service/northern-lights-3/
LOCATION:Daily Drip Coffee & Dessert\, 6027 W Bell Rd\, ste b\, Glendale\, AZ\, 85308\, United States
ATTACH;FMTTYPE=image/jpeg:https://phxicc.org/wp-content/uploads/2023/06/IMG_4777-scaled.jpg
END:VEVENT
BEGIN:VEVENT
DTSTART;TZID=America/Phoenix:20230815T193000
DTEND;TZID=America/Phoenix:20230815T193000
DTSTAMP:20260425T192317
CREATED:20230719T035531Z
LAST-MODIFIED:20230719T062635Z
UID:18436-1692127800-1692127800@phxicc.org
SUMMARY:Straight Up Bible Talk
DESCRIPTION:Weekly Bible discussions for single professionals and married couples in the Tempe area! Contact Christian Ybarra for details.
URL:https://phxicc.org/service/straight-up-bible-talk-4/
LOCATION:Black Rock Coffee\, 1202 W Broadway Rd\, Tempe\, AZ\, 85282\, United States
ATTACH;FMTTYPE=image/jpeg:https://phxicc.org/wp-content/uploads/2023/06/IMG_4791-scaled.jpg
END:VEVENT
BEGIN:VEVENT
DTSTART;TZID=America/Phoenix:20230815T120000
DTEND;TZID=America/Phoenix:20230815T120000
DTSTAMP:20260425T192317
CREATED:20230719T040036Z
LAST-MODIFIED:20230719T062545Z
UID:18443-1692100800-1692100800@phxicc.org
SUMMARY:He Knows My Name
DESCRIPTION:Weekly Bible discussions for mature single women. Contact Arleen Proto for details.
URL:https://phxicc.org/service/he-knows-my-name-3/
LOCATION:Alabastar Jar\, 2050 W Dunlap Ave Lot 0235\, Phoenix\, AZ\, 85021\, United States
ATTACH;FMTTYPE=image/jpeg:https://phxicc.org/wp-content/uploads/2023/06/IMG_4798-scaled.jpg
END:VEVENT
BEGIN:VEVENT
DTSTART;TZID=America/Phoenix:20230813T100000
DTEND;TZID=America/Phoenix:20230813T120000
DTSTAMP:20260425T192317
CREATED:20230719T043832Z
LAST-MODIFIED:20230719T050744Z
UID:18499-1691920800-1691928000@phxicc.org
SUMMARY:Sunday Service
DESCRIPTION:The Sunday Church Service is the heartbeat of the faith community\, where believers come together to worship\, learn\, and experience the presence of God. Held each week\, this sacred gathering provides a time of spiritual rejuvenation and deepening of one’s relationship with God and fellow worshippers. With uplifting music\, heartfelt prayers\, and impactful sermons\, the Sunday Church Service offers a meaningful and transformative experience for all who attend.
URL:https://phxicc.org/service/sunday-service/
LOCATION:Phoenix International Christian Church\, 5902 E Camelback Rd\, Phoenix\, AZ\, United States
ATTACH;FMTTYPE=image/jpeg:https://phxicc.org/wp-content/uploads/2023/07/IMG_5022-scaled.jpg
END:VEVENT
BEGIN:VEVENT
DTSTART;TZID=America/Phoenix:20230811T193000
DTEND;TZID=America/Phoenix:20230811T193000
DTSTAMP:20260425T192317
CREATED:20230719T042736Z
LAST-MODIFIED:20230719T062337Z
UID:18492-1691782200-1691782200@phxicc.org
SUMMARY:Freedom Fighters Bible Talk
DESCRIPTION:Weekly Bible discussions for single professionals and married couples in the Tempe area! Contact Kelvin Ashton for details.
URL:https://phxicc.org/service/freedom-fighters-bible-talk-3/
LOCATION:ASU Tempe Campus\, 400 E Orange\, Tempe\, AZ\, 85281\, United States
ATTACH;FMTTYPE=image/jpeg:https://phxicc.org/wp-content/uploads/2023/06/IMG_5125-scaled.jpg
END:VEVENT
BEGIN:VEVENT
DTSTART;TZID=America/Phoenix:20230810T193000
DTEND;TZID=America/Phoenix:20230810T193000
DTSTAMP:20260425T192317
CREATED:20230719T042721Z
LAST-MODIFIED:20230719T062217Z
UID:18487-1691695800-1691695800@phxicc.org
SUMMARY:Diamond Brigade – ASU
DESCRIPTION:Weekly Bible discussions for students at Arizona State University! Contact Mike Sibley for details.
URL:https://phxicc.org/service/diamond-brigade-asu-2/
LOCATION:Panera Bread\, 2000 Rio Salado Pkwy\, Tempe\, AZ\, 85281\, United States
ATTACH;FMTTYPE=image/jpeg:https://phxicc.org/wp-content/uploads/2023/06/IMG_4774-scaled.jpg
END:VEVENT
BEGIN:VEVENT
DTSTART;TZID=America/Phoenix:20230810T193000
DTEND;TZID=America/Phoenix:20230810T193000
DTSTAMP:20260425T192317
CREATED:20230719T041244Z
LAST-MODIFIED:20230719T062051Z
UID:18464-1691695800-1691695800@phxicc.org
SUMMARY:The Way Bible Talk
DESCRIPTION:Weekly Bible discussions for single professionals and married couples in the Tempe area! Contact King Burke for details.
URL:https://phxicc.org/service/the-way-bible-talk-2/
LOCATION:Arizona Mills\, 5000 S Arizona Mills Cir.\, Tempe\, AZ\, 85282\, United States
ATTACH;FMTTYPE=image/jpeg:https://phxicc.org/wp-content/uploads/2023/06/IMG_4770-scaled.jpg
END:VEVENT
BEGIN:VEVENT
DTSTART;TZID=America/Phoenix:20230810T193000
DTEND;TZID=America/Phoenix:20230810T193000
DTSTAMP:20260425T192317
CREATED:20230719T041206Z
LAST-MODIFIED:20230719T062013Z
UID:18458-1691695800-1691695800@phxicc.org
SUMMARY:SHIELD Bible Talk
DESCRIPTION:Weekly Bible discussions for single professionals and married couples in the Tempe area! Contact Lem Hardy for details.
URL:https://phxicc.org/service/shield-bible-talk-3/
LOCATION:Gadzooks\, 505 W University Dr\, Tempe\, AZ\, 85281\, United States
ATTACH;FMTTYPE=image/jpeg:https://phxicc.org/wp-content/uploads/2023/06/IMG_4784-scaled.jpg
END:VEVENT
BEGIN:VEVENT
DTSTART;TZID=America/Phoenix:20230810T193000
DTEND;TZID=America/Phoenix:20230810T193000
DTSTAMP:20260425T192317
CREATED:20230719T041105Z
LAST-MODIFIED:20230719T061937Z
UID:18452-1691695800-1691695800@phxicc.org
SUMMARY:Guardienes De La Fe Bible Talk
DESCRIPTION:¡Discusiones bíblicas semanales en español para solteros y parejas casadas en el área de Phoenix! Póngase en contacto con Jorge para obtener más detalles.
URL:https://phxicc.org/service/guardienes-de-la-fe-bible-talk-2/
LOCATION:Ranch Market\, 1602 E Roosevelt St.\, Phoenix\, AZ\, 85006\, United States
ATTACH;FMTTYPE=image/jpeg:https://phxicc.org/wp-content/uploads/2023/06/IMG_4780-scaled.jpg
END:VEVENT
BEGIN:VEVENT
DTSTART;TZID=America/Phoenix:20230810T190000
DTEND;TZID=America/Phoenix:20230810T190000
DTSTAMP:20260425T192317
CREATED:20230719T042705Z
LAST-MODIFIED:20230719T061859Z
UID:18482-1691694000-1691694000@phxicc.org
SUMMARY:Mountain Movers Bible Talk
DESCRIPTION:Weekly Bible discussions for married couples and single professionals alike! Contact Chas Jordan for details.
URL:https://phxicc.org/service/mountain-movers-bible-talk-2/
LOCATION:Habit Burger\, 530 W McDowell Rd\, Phoenix\, AZ\, 85003\, United States
ATTACH;FMTTYPE=image/jpeg:https://phxicc.org/wp-content/uploads/2023/05/IMG_2733-scaled.jpg
END:VEVENT
END:VCALENDAR