BEGIN:VCALENDAR
VERSION:2.0
PRODID:-//Phoenix International Christian Church - ECPv6.15.20//NONSGML v1.0//EN
CALSCALE:GREGORIAN
METHOD:PUBLISH
X-WR-CALNAME:Phoenix International Christian Church
X-ORIGINAL-URL:https://phxicc.org
X-WR-CALDESC:Events for Phoenix International Christian Church
REFRESH-INTERVAL;VALUE=DURATION:PT1H
X-Robots-Tag:noindex
X-PUBLISHED-TTL:PT1H
BEGIN:VTIMEZONE
TZID:America/Phoenix
BEGIN:STANDARD
TZOFFSETFROM:-0700
TZOFFSETTO:-0700
TZNAME:MST
DTSTART:20230101T000000
END:STANDARD
END:VTIMEZONE
BEGIN:VEVENT
DTSTART;TZID=America/Phoenix:20240413T180000
DTEND;TZID=America/Phoenix:20240413T200000
DTSTAMP:20260425T040533
CREATED:20240101T210736Z
LAST-MODIFIED:20240101T210736Z
UID:18854-1713031200-1713038400@phxicc.org
SUMMARY:Singles Devotional
DESCRIPTION:
URL:https://phxicc.org/service/singles-devotional-2/
LOCATION:AZ
END:VEVENT
BEGIN:VEVENT
DTSTART;TZID=America/Phoenix:20240406T080000
DTEND;TZID=America/Phoenix:20240406T100000
DTSTAMP:20260425T040533
CREATED:20240101T205931Z
LAST-MODIFIED:20240101T205931Z
UID:18852-1712390400-1712397600@phxicc.org
SUMMARY:Chemical Recovery Ministry - Shepherding and Recovery
DESCRIPTION:Are you or someone you know on a journey towards chemical recovery and seeking support? Join us for an Open Class at our Chemical Recovery Ministry! This inclusive and welcoming session is designed to provide insights\, encouragement\, and practical tools for those navigating the path to recovery. Whether you are taking your first steps or continuing the journey\, this class offers a safe space to share experiences and find strength in community.
URL:https://phxicc.org/service/chemical-recovery-ministry-shepherding-and-recovery/
LOCATION:AZ
END:VEVENT
BEGIN:VEVENT
DTSTART;TZID=America/Phoenix:20240403T193000
DTEND;TZID=America/Phoenix:20240403T210000
DTSTAMP:20260425T040533
CREATED:20240101T205323Z
LAST-MODIFIED:20240101T205323Z
UID:18848-1712172600-1712178000@phxicc.org
SUMMARY:Men's Midweek
DESCRIPTION:Gentlemen\, step into a space of strength and camaraderie at Midweek Men’s Gathering! Join us for an evening tailored for the modern man seeking inspiration and connection. As we gather in unity\, we’ll engage in a dynamic devotional themed around embracing new horizons and fresh opportunities. This is a chance for fellowship\, honest conversations\, and building bonds.
URL:https://phxicc.org/service/mens-midweek-8/
LOCATION:Phoenix International Christian Church\, 5902 E Camelback Rd\, Phoenix\, AZ\, United States
ATTACH;FMTTYPE=image/png:https://phxicc.org/wp-content/uploads/2023/10/IMG_7633.png
END:VEVENT
BEGIN:VEVENT
DTSTART;TZID=America/Phoenix:20240331T100000
DTEND;TZID=America/Phoenix:20240331T120000
DTSTAMP:20260425T040533
CREATED:20240101T202210Z
LAST-MODIFIED:20240101T202210Z
UID:18838-1711879200-1711886400@phxicc.org
SUMMARY:Easter Congregational Sunday Service
DESCRIPTION:Celebrate the joy and triumph of Easter with us at! Join our Easter Sunday Service for a morning filled with hope\, renewal\, and the uplifting message of resurrection. As the sun rises on this special day\, we invite you to experience the beauty of worship\, heartfelt prayers\, and a message of love that transcends all boundaries. Bring your family and friends for a time of reflection and joyous celebration. Our doors are open to all\, and we welcome you to be part of this meaningful occasion. Come as you are and join us in embracing the spirit of Easter—the promise of new beginnings and the victory of light over darkness.
URL:https://phxicc.org/service/easter-congregational-sunday-service/
LOCATION:Phoenix International Christian Church\, 5902 E Camelback Rd\, Phoenix\, AZ\, United States
ATTACH;FMTTYPE=image/jpeg:https://phxicc.org/wp-content/uploads/2023/07/IMG_5022-scaled.jpg
END:VEVENT
BEGIN:VEVENT
DTSTART;TZID=America/Phoenix:20240327T193000
DTEND;TZID=America/Phoenix:20240327T210000
DTSTAMP:20260425T040533
CREATED:20240101T202726Z
LAST-MODIFIED:20240101T204318Z
UID:18840-1711567800-1711573200@phxicc.org
SUMMARY:Women's Midweek
DESCRIPTION:Ladies\, join us for a soul-nourishing midweek gathering! Your presence and insights are cherished as we explore how we\, as a sisterhood\, can contribute to the well-being of our faith community. Let’s grow together in faith\, fellowship\, and support. See you at our women’s midweek service!
URL:https://phxicc.org/service/womens-midweek-9/
LOCATION:Phoenix International Christian Church\, 5902 E Camelback Rd\, Phoenix\, AZ\, United States
ATTACH;FMTTYPE=image/jpeg:https://phxicc.org/wp-content/uploads/2023/10/IMG_7815-scaled.jpg
END:VEVENT
BEGIN:VEVENT
DTSTART;TZID=America/Phoenix:20240323T180000
DTEND;TZID=America/Phoenix:20240323T200000
DTSTAMP:20260425T040533
CREATED:20240101T204907Z
LAST-MODIFIED:20240101T204907Z
UID:18846-1711216800-1711224000@phxicc.org
SUMMARY:Singles Devotional
DESCRIPTION:
URL:https://phxicc.org/service/singles-devotional/
LOCATION:AZ
ATTACH;FMTTYPE=image/jpeg:https://phxicc.org/wp-content/uploads/2023/05/Screenshot_20230521_162922_Instagram.jpg
END:VEVENT
BEGIN:VEVENT
DTSTART;TZID=America/Phoenix:20240320T193000
DTEND;TZID=America/Phoenix:20240320T210000
DTSTAMP:20260425T040533
CREATED:20240101T204540Z
LAST-MODIFIED:20240101T204540Z
UID:18844-1710963000-1710968400@phxicc.org
SUMMARY:Men's Midweek
DESCRIPTION:Gentlemen\, step into a space of strength and camaraderie at Midweek Men’s Gathering! Join us for an evening tailored for the modern man seeking inspiration and connection. As we gather in unity\, we’ll engage in a dynamic devotional themed around embracing new horizons and fresh opportunities. This is a chance for fellowship\, honest conversations\, and building bonds.
URL:https://phxicc.org/service/mens-midweek-6/
LOCATION:Phoenix International Christian Church\, 5902 E Camelback Rd\, Phoenix\, AZ\, United States
ATTACH;FMTTYPE=image/png:https://phxicc.org/wp-content/uploads/2023/10/IMG_7633.png
END:VEVENT
BEGIN:VEVENT
DTSTART;TZID=America/Phoenix:20240313T193000
DTEND;TZID=America/Phoenix:20240313T210000
DTSTAMP:20260425T040533
CREATED:20240101T202909Z
LAST-MODIFIED:20240101T202909Z
UID:18842-1710358200-1710363600@phxicc.org
SUMMARY:Women's Midweek
DESCRIPTION:Ladies\, join us for a soul-nourishing midweek gathering! Your presence and insights are cherished as we explore how we\, as a sisterhood\, can contribute to the well-being of our faith community. Let’s grow together in faith\, fellowship\, and support. See you at our women’s midweek service!
URL:https://phxicc.org/service/womens-midweek-10/
LOCATION:Phoenix International Christian Church\, 5902 E Camelback Rd\, Phoenix\, AZ\, United States
ATTACH;FMTTYPE=image/jpeg:https://phxicc.org/wp-content/uploads/2023/10/IMG_7815-scaled.jpg
END:VEVENT
BEGIN:VEVENT
DTSTART;VALUE=DATE:20240307
DTEND;VALUE=DATE:20240311
DTSTAMP:20260425T040533
CREATED:20240101T201354Z
LAST-MODIFIED:20240101T201354Z
UID:18834-1709769600-1710115199@phxicc.org
SUMMARY:Southern African Missions Conference
DESCRIPTION:
URL:https://phxicc.org/service/southern-african-missions-conference/
LOCATION:AZ
END:VEVENT
BEGIN:VEVENT
DTSTART;TZID=America/Phoenix:20240306T193000
DTEND;TZID=America/Phoenix:20240306T210000
DTSTAMP:20260425T040533
CREATED:20240101T201649Z
LAST-MODIFIED:20240101T203044Z
UID:18836-1709753400-1709758800@phxicc.org
SUMMARY:Men's Midweek Service
DESCRIPTION:Gentlemen\, step into a space of strength and camaraderie at Midweek Men’s Gathering! Join us for an evening tailored for the modern man seeking inspiration and connection. As we gather in unity\, we’ll engage in a dynamic devotional themed around embracing new horizons and fresh opportunities. This is a chance for fellowship\, honest conversations\, and building bonds.
URL:https://phxicc.org/service/mens-midweek-service/
LOCATION:Phoenix International Christian Church\, 5902 E Camelback Rd\, Phoenix\, AZ\, United States
ATTACH;FMTTYPE=image/jpeg:https://phxicc.org/wp-content/uploads/2023/04/339664177_919444629100578_4663171761306902214_n.jpg
END:VEVENT
BEGIN:VEVENT
DTSTART;TZID=America/Phoenix:20240302T080000
DTEND;TZID=America/Phoenix:20240302T100000
DTSTAMP:20260425T040533
CREATED:20240101T201255Z
LAST-MODIFIED:20240101T201255Z
UID:18832-1709366400-1709373600@phxicc.org
SUMMARY:Chemical Recovery Ministry – Women in Recovery
DESCRIPTION:Are you or someone you know on a journey towards chemical recovery and seeking support? Join us for an Open Class at our Chemical Recovery Ministry! This inclusive and welcoming session is designed to provide insights\, encouragement\, and practical tools for those navigating the path to recovery. Whether you are taking your first steps or continuing the journey\, this class offers a safe space to share experiences and find strength in community.
URL:https://phxicc.org/service/chemical-recovery-ministry-women-in-recovery/
LOCATION:AZ
END:VEVENT
BEGIN:VEVENT
DTSTART;TZID=America/Phoenix:20240228T193000
DTEND;TZID=America/Phoenix:20240228T210000
DTSTAMP:20260425T040533
CREATED:20240101T195806Z
LAST-MODIFIED:20240101T195806Z
UID:18826-1709148600-1709154000@phxicc.org
SUMMARY:Women's Midweek
DESCRIPTION:Ladies\, join us for a soul-nourishing midweek gathering! Your presence and insights are cherished as we explore how we\, as a sisterhood\, can contribute to the well-being of our faith community. Let’s grow together in faith\, fellowship\, and support. See you at our women’s midweek service!
URL:https://phxicc.org/service/womens-midweek-8/
LOCATION:Phoenix International Christian Church\, 5902 E Camelback Rd\, Phoenix\, AZ\, United States
ATTACH;FMTTYPE=image/jpeg:https://phxicc.org/wp-content/uploads/2023/10/IMG_7815-scaled.jpg
END:VEVENT
BEGIN:VEVENT
DTSTART;TZID=America/Phoenix:20240225T133000
DTEND;TZID=America/Phoenix:20240225T143000
DTSTAMP:20260425T040533
CREATED:20240101T193334Z
LAST-MODIFIED:20240101T193334Z
UID:18810-1708867800-1708871400@phxicc.org
SUMMARY:New Christians Celebration
DESCRIPTION:Welcome to our church family! We are thrilled to have you as part of our community of faith. As you embark on this exciting journey of spiritual growth\, we invite you to a special gathering just for you. Join us for a New Christians Welcome Event\, where we’ll share in fellowship\, explore the foundations of our faith\, and connect with others who are on a similar path. This will be a supportive space to ask questions\, seek guidance\, and build meaningful relationships.
URL:https://phxicc.org/service/new-christians-celebration/
LOCATION:Phoenix International Christian Church\, 5902 E Camelback Rd\, Phoenix\, AZ\, United States
ATTACH;FMTTYPE=image/png:https://phxicc.org/wp-content/uploads/2023/10/IMG_7633.png
END:VEVENT
BEGIN:VEVENT
DTSTART;TZID=America/Phoenix:20240225T100000
DTEND;TZID=America/Phoenix:20240225T120000
DTSTAMP:20260425T040533
CREATED:20240101T200119Z
LAST-MODIFIED:20240101T200119Z
UID:18830-1708855200-1708862400@phxicc.org
SUMMARY:East Region Sunday Service
DESCRIPTION:
URL:https://phxicc.org/service/east-region-sunday-service-3/
LOCATION:AZ
ATTACH;FMTTYPE=image/jpeg:https://phxicc.org/wp-content/uploads/2023/07/IMG_5022-scaled.jpg
END:VEVENT
BEGIN:VEVENT
DTSTART;TZID=America/Phoenix:20240225T100000
DTEND;TZID=America/Phoenix:20240225T120000
DTSTAMP:20260425T040533
CREATED:20240101T200033Z
LAST-MODIFIED:20240101T200033Z
UID:18828-1708855200-1708862400@phxicc.org
SUMMARY:West Region Sunday Service
DESCRIPTION:
URL:https://phxicc.org/service/west-region-sunday-service-2/
LOCATION:AZ
ATTACH;FMTTYPE=image/jpeg:https://phxicc.org/wp-content/uploads/2023/07/IMG_5022-scaled.jpg
END:VEVENT
BEGIN:VEVENT
DTSTART;TZID=America/Phoenix:20240221T193000
DTEND;TZID=America/Phoenix:20240221T210000
DTSTAMP:20260425T040533
CREATED:20240101T195232Z
LAST-MODIFIED:20240101T195232Z
UID:18820-1708543800-1708549200@phxicc.org
SUMMARY:Men's Midweek
DESCRIPTION:Gentlemen\, step into a space of strength and camaraderie at Midweek Men’s Gathering! Join us for an evening tailored for the modern man seeking inspiration and connection. As we gather in unity\, we’ll engage in a dynamic devotional themed around embracing new horizons and fresh opportunities. This is a chance for fellowship\, honest conversations\, and building bonds.
URL:https://phxicc.org/service/mens-midweek-7/
LOCATION:Phoenix International Christian Church\, 5902 E Camelback Rd\, Phoenix\, AZ\, United States
ATTACH;FMTTYPE=image/jpeg:https://phxicc.org/wp-content/uploads/2023/04/339664177_919444629100578_4663171761306902214_n.jpg
END:VEVENT
BEGIN:VEVENT
DTSTART;VALUE=DATE:20240218
DTEND;VALUE=DATE:20240219
DTSTAMP:20260425T040533
CREATED:20240101T195628Z
LAST-MODIFIED:20240101T195628Z
UID:18824-1708214400-1708300799@phxicc.org
SUMMARY:Ybarra Wedding
DESCRIPTION:More details to come for this exciting event!
URL:https://phxicc.org/service/ybarra-wedding/
LOCATION:AZ
END:VEVENT
BEGIN:VEVENT
DTSTART;VALUE=DATE:20240215
DTEND;VALUE=DATE:20240219
DTSTAMP:20260425T040533
CREATED:20240101T192429Z
LAST-MODIFIED:20240101T192429Z
UID:18806-1707955200-1708300799@phxicc.org
SUMMARY:South American Missions Conference
DESCRIPTION:
URL:https://phxicc.org/service/south-american-missions-conference/
LOCATION:AZ
END:VEVENT
BEGIN:VEVENT
DTSTART;TZID=America/Phoenix:20240214T193000
DTEND;TZID=America/Phoenix:20240214T210000
DTSTAMP:20260425T040533
CREATED:20240101T195430Z
LAST-MODIFIED:20240101T195430Z
UID:18822-1707939000-1707944400@phxicc.org
SUMMARY:Women's Midweek
DESCRIPTION:Ladies\, join us for a soul-nourishing midweek gathering! Your presence and insights are cherished as we explore how we\, as a sisterhood\, can contribute to the well-being of our faith community. Let’s grow together in faith\, fellowship\, and support. See you at our women’s midweek service!
URL:https://phxicc.org/service/womens-midweek-7/
LOCATION:Phoenix International Christian Church\, 5902 E Camelback Rd\, Phoenix\, AZ\, United States
ATTACH;FMTTYPE=image/jpeg:https://phxicc.org/wp-content/uploads/2023/10/IMG_7815-scaled.jpg
END:VEVENT
BEGIN:VEVENT
DTSTART;TZID=America/Phoenix:20240211T100000
DTEND;TZID=America/Phoenix:20240211T120000
DTSTAMP:20260425T040533
CREATED:20240101T192259Z
LAST-MODIFIED:20240101T192259Z
UID:18804-1707645600-1707652800@phxicc.org
SUMMARY:Superbowl Sunday Service
DESCRIPTION:Gear up for an extraordinary Super Bowl Sunday at Phoenix International Christian Church! Join us for Jersey Sunday\, a unique celebration where faith meets football fever. Don your favorite team’s jersey and bring the energy to our special service. Whether you’re a die-hard fan or just love the camaraderie\, this event is a touchdown for everyone. Embrace the spirit of unity\, faith\, and friendly rivalry as we come together to kick off this Super Bowl Sunday at Phoenix International Christian Church. Bring your team spirit and let’s make this service a winning play!
URL:https://phxicc.org/service/superbowl-sunday-service/
LOCATION:Phoenix International Christian Church\, 5902 E Camelback Rd\, Phoenix\, AZ\, United States
ATTACH;FMTTYPE=image/jpeg:https://phxicc.org/wp-content/uploads/2023/07/IMG_5022-scaled.jpg
END:VEVENT
BEGIN:VEVENT
DTSTART;TZID=America/Phoenix:20240209T193000
DTEND;TZID=America/Phoenix:20240209T210000
DTSTAMP:20260425T040533
CREATED:20240101T192804Z
LAST-MODIFIED:20240101T192804Z
UID:18808-1707507000-1707512400@phxicc.org
SUMMARY:Singles Valentine's Day Party
DESCRIPTION:Love is in the air\, and you’re invited to our Singles Valentine’s Party! Wear your heart on your sleeve\, and let’s celebrate the beauty of being single together. We’ve got exciting activities\, music\, and delightful surprises in store for you. Come share the love in a warm and welcoming atmosphere. Don’t miss out on the fun!
URL:https://phxicc.org/service/singles-valentines-day-party/
LOCATION:AZ
END:VEVENT
BEGIN:VEVENT
DTSTART;TZID=America/Phoenix:20240207T193000
DTEND;TZID=America/Phoenix:20240207T210000
DTSTAMP:20260425T040533
CREATED:20240101T194949Z
LAST-MODIFIED:20240101T194949Z
UID:18818-1707334200-1707339600@phxicc.org
SUMMARY:Men's Midweek
DESCRIPTION:Gentlemen\, step into a space of strength and camaraderie at Midweek Men’s Gathering! Join us for an evening tailored for the modern man seeking inspiration and connection. As we gather in unity\, we’ll engage in a dynamic devotional themed around embracing new horizons and fresh opportunities. This is a chance for fellowship\, honest conversations\, and building bonds.
URL:https://phxicc.org/service/mens-midweek-5/
LOCATION:Phoenix International Christian Church\, 5902 E Camelback Rd\, Phoenix\, AZ\, United States
ATTACH;FMTTYPE=image/jpeg:https://phxicc.org/wp-content/uploads/2023/04/339664177_919444629100578_4663171761306902214_n.jpg
END:VEVENT
BEGIN:VEVENT
DTSTART;TZID=America/Phoenix:20240203T080000
DTEND;TZID=America/Phoenix:20240203T100000
DTSTAMP:20260425T040533
CREATED:20240101T193918Z
LAST-MODIFIED:20240101T193918Z
UID:18812-1706947200-1706954400@phxicc.org
SUMMARY:Chemical Recovery Ministry - Open Class
DESCRIPTION:Are you or someone you know on a journey towards chemical recovery and seeking support? Join us for an Open Class at our Chemical Recovery Ministry! This inclusive and welcoming session is designed to provide insights\, encouragement\, and practical tools for those navigating the path to recovery. Whether you are taking your first steps or continuing the journey\, this class offers a safe space to share experiences and find strength in community.
URL:https://phxicc.org/service/chemical-recovery-ministry-open-class/
LOCATION:AZ
END:VEVENT
BEGIN:VEVENT
DTSTART;VALUE=DATE:20240201
DTEND;VALUE=DATE:20240205
DTSTAMP:20260425T040533
CREATED:20240101T191834Z
LAST-MODIFIED:20240101T191834Z
UID:18802-1706745600-1707091199@phxicc.org
SUMMARY:Hawaiian Islands Missions Conference
DESCRIPTION:
URL:https://phxicc.org/service/hawaiian-islands-missions-conference/
LOCATION:AZ
END:VEVENT
BEGIN:VEVENT
DTSTART;TZID=America/Phoenix:20240131T193000
DTEND;TZID=America/Phoenix:20240131T210000
DTSTAMP:20260425T040533
CREATED:20240101T185757Z
LAST-MODIFIED:20240101T185757Z
UID:18796-1706729400-1706734800@phxicc.org
SUMMARY:Women's Midweek
DESCRIPTION:Ladies\, join us for a soul-nourishing midweek gathering! Your presence and insights are cherished as we explore how we\, as a sisterhood\, can contribute to the well-being of our faith community. Let’s grow together in faith\, fellowship\, and support. See you at our women’s midweek service!
URL:https://phxicc.org/service/womens-midweek-6/
LOCATION:Phoenix International Christian Church\, 5902 E Camelback Rd\, Phoenix\, AZ\, United States
ATTACH;FMTTYPE=image/jpeg:https://phxicc.org/wp-content/uploads/2023/10/IMG_7815-scaled.jpg
END:VEVENT
BEGIN:VEVENT
DTSTART;TZID=America/Phoenix:20240128T100000
DTEND;TZID=America/Phoenix:20240128T120000
DTSTAMP:20260425T040533
CREATED:20240101T194647Z
LAST-MODIFIED:20240101T194647Z
UID:18816-1706436000-1706443200@phxicc.org
SUMMARY:East Region Sunday Service
DESCRIPTION:
URL:https://phxicc.org/service/east-region-sunday-service-2/
LOCATION:Phoenix International Christian Church\, 5902 E Camelback Rd\, Phoenix\, AZ\, United States
ATTACH;FMTTYPE=image/jpeg:https://phxicc.org/wp-content/uploads/2023/07/IMG_5022-scaled.jpg
END:VEVENT
BEGIN:VEVENT
DTSTART;TZID=America/Phoenix:20240128T100000
DTEND;TZID=America/Phoenix:20240128T120000
DTSTAMP:20260425T040533
CREATED:20240101T194548Z
LAST-MODIFIED:20240101T194548Z
UID:18814-1706436000-1706443200@phxicc.org
SUMMARY:West Region Sunday Service
DESCRIPTION:
URL:https://phxicc.org/service/west-region-sunday-service/
LOCATION:Phoenix International Christian Church\, 5902 E Camelback Rd\, Phoenix\, AZ\, United States
ATTACH;FMTTYPE=image/jpeg:https://phxicc.org/wp-content/uploads/2023/07/IMG_5022-scaled.jpg
END:VEVENT
BEGIN:VEVENT
DTSTART;TZID=America/Phoenix:20240127T180000
DTEND;TZID=America/Phoenix:20240127T210000
DTSTAMP:20260425T040533
CREATED:20240101T190436Z
LAST-MODIFIED:20240101T190436Z
UID:18798-1706378400-1706389200@phxicc.org
SUMMARY:Singles Devotional: Fresh Start
DESCRIPTION:Embark on a new beginning with us at Fresh Start Singles Devotional! Join our dynamic community for an evening of soulful reflection and connection. Be part of an encouraging atmosphere where we share stories\, insights\, and encouragement for the journey ahead. As we explore the theme of renewal\, let’s find inspiration and support in our shared experiences as singles.
URL:https://phxicc.org/service/singles-devotional-fresh-start/
LOCATION:AZ
ATTACH;FMTTYPE=image/jpeg:https://phxicc.org/wp-content/uploads/2023/05/Screenshot_20230521_162922_Instagram.jpg
END:VEVENT
BEGIN:VEVENT
DTSTART;TZID=America/Phoenix:20240124T193000
DTEND;TZID=America/Phoenix:20240124T210000
DTSTAMP:20260425T040533
CREATED:20240101T191151Z
LAST-MODIFIED:20240101T191151Z
UID:18800-1706124600-1706130000@phxicc.org
SUMMARY:Men's Midweek
DESCRIPTION:Gentlemen\, step into a space of strength and camaraderie at Midweek Men’s Gathering! Join us for an evening tailored for the modern man seeking inspiration and connection. As we gather in unity\, we’ll engage in a dynamic devotional themed around embracing new horizons and fresh opportunities. This is a chance for fellowship\, honest conversations\, and building bonds.
URL:https://phxicc.org/service/mens-midweek-4/
LOCATION:Phoenix International Christian Church\, 5902 E Camelback Rd\, Phoenix\, AZ\, United States
ATTACH;FMTTYPE=image/jpeg:https://phxicc.org/wp-content/uploads/2023/04/339664177_919444629100578_4663171761306902214_n.jpg
END:VEVENT
BEGIN:VEVENT
DTSTART;TZID=America/Phoenix:20240117T193000
DTEND;TZID=America/Phoenix:20240117T210000
DTSTAMP:20260425T040533
CREATED:20240101T185203Z
LAST-MODIFIED:20240101T185231Z
UID:18794-1705519800-1705525200@phxicc.org
SUMMARY:Women's Midweek
DESCRIPTION:Ladies\, join us for a soul-nourishing midweek gathering! Let’s grow together in faith\, fellowship\, and support. See you at our women’s midweek service!
URL:https://phxicc.org/service/womens-midweek-5/
LOCATION:Phoenix International Christian Church\, 5902 E Camelback Rd\, Phoenix\, AZ\, United States
ATTACH;FMTTYPE=image/jpeg:https://phxicc.org/wp-content/uploads/2023/10/IMG_7815-scaled.jpg
END:VEVENT
END:VCALENDAR