BEGIN:VCALENDAR
VERSION:2.0
PRODID:-//Phoenix International Christian Church - ECPv6.15.20//NONSGML v1.0//EN
CALSCALE:GREGORIAN
METHOD:PUBLISH
X-WR-CALNAME:Phoenix International Christian Church
X-ORIGINAL-URL:https://phxicc.org
X-WR-CALDESC:Events for Phoenix International Christian Church
REFRESH-INTERVAL;VALUE=DURATION:PT1H
X-Robots-Tag:noindex
X-PUBLISHED-TTL:PT1H
BEGIN:VTIMEZONE
TZID:America/Phoenix
BEGIN:STANDARD
TZOFFSETFROM:-0700
TZOFFSETTO:-0700
TZNAME:MST
DTSTART:20220101T000000
END:STANDARD
END:VTIMEZONE
BEGIN:VEVENT
DTSTART;TZID=America/Phoenix:20230722T120000
DTEND;TZID=America/Phoenix:20230722T153000
DTSTAMP:20260425T213029
CREATED:20230719T002406Z
LAST-MODIFIED:20230719T002505Z
UID:18402-1690027200-1690039800@phxicc.org
SUMMARY:Teen Devotional
DESCRIPTION:The Teen Devotional at the Trampoline Park is an exciting and faith-filled gathering designed to engage and inspire teenagers in their spiritual journey. This unique event combines the thrill of bouncing and jumping with the opportunity to grow in faith and connect with peers who share a similar commitment to Christ. Set against the backdrop of high-flying fun\, the Teen Devotional invites young hearts to experience God’s love in an exhilarating and vibrant atmosphere.
URL:https://phxicc.org/service/teen-devotional/
LOCATION:Skyzone\, 4857 E Greenway Rd\, Scottsdale\, 85254\, United States
ATTACH;FMTTYPE=image/jpeg:https://phxicc.org/wp-content/uploads/2023/07/361412584_1461403114681525_4846564162536710824_n.jpg
END:VEVENT
BEGIN:VEVENT
DTSTART;TZID=America/Phoenix:20230721T193000
DTEND;TZID=America/Phoenix:20230721T203000
DTSTAMP:20260425T213029
CREATED:20230719T001727Z
LAST-MODIFIED:20230719T001727Z
UID:18399-1689967800-1689971400@phxicc.org
SUMMARY:Freedom Fighters Bible Talk
DESCRIPTION:Weekly Bible discussions for single professionals and married couples in the Tempe area! Contact Kelvin Ashton for details.
URL:https://phxicc.org/service/freedom-fighters-bible-talk/
LOCATION:ASU Tempe Campus\, 400 E Orange\, Tempe\, AZ\, 85281\, United States
ATTACH;FMTTYPE=image/jpeg:https://phxicc.org/wp-content/uploads/2023/06/IMG_5125-scaled.jpg
END:VEVENT
BEGIN:VEVENT
DTSTART;TZID=America/Phoenix:20230720T193000
DTEND;TZID=America/Phoenix:20230720T203000
DTSTAMP:20260425T213029
CREATED:20230719T004919Z
LAST-MODIFIED:20230719T004919Z
UID:18418-1689881400-1689885000@phxicc.org
SUMMARY:SHIELD Bible Talk
DESCRIPTION:Weekly Bible discussions for single professionals and married couples in the Tempe area! Contact Lem Hardy for details.
URL:https://phxicc.org/service/shield-bible-talk/
LOCATION:Gadzooks\, 505 W University Dr\, Tempe\, AZ\, 85281\, United States
ATTACH;FMTTYPE=image/jpeg:https://phxicc.org/wp-content/uploads/2023/06/IMG_4784-scaled.jpg
END:VEVENT
BEGIN:VEVENT
DTSTART;TZID=America/Phoenix:20230720T193000
DTEND;TZID=America/Phoenix:20230720T203000
DTSTAMP:20260425T213029
CREATED:20230719T004511Z
LAST-MODIFIED:20230719T004511Z
UID:18415-1689881400-1689885000@phxicc.org
SUMMARY:Guardienes De La Fe
DESCRIPTION:¡Discusiones bíblicas semanales en español para solteros y parejas casadas en el área de Phoenix! Póngase en contacto con Jorge para obtener más detalles.
URL:https://phxicc.org/service/guardienes-de-la-fe/
LOCATION:Ranch Market\, 1602 E Roosevelt St.\, Phoenix\, AZ\, 85006\, United States
ATTACH;FMTTYPE=image/jpeg:https://phxicc.org/wp-content/uploads/2023/06/IMG_4780-scaled.jpg
END:VEVENT
BEGIN:VEVENT
DTSTART;VALUE=DATE:20230728
DTEND;VALUE=DATE:20230731
DTSTAMP:20260425T213029
CREATED:20230719T003801Z
LAST-MODIFIED:20230719T072009Z
UID:18407-1690502400-1690761599@phxicc.org
SUMMARY:Latin American Missions Conference
DESCRIPTION:Welcome to the 2023 Latin American Mission Conference(LAMC) entitled “Limitless”! \nWe are thrilled to have you all here in the vibrant and culturally rich Mexico City. As the heart of Mexico and one of the largest cities in the world\, Mexico City has a history and cultural heritage that spans back thousands of years. From the ancient Aztec civilization to the Spanish colonial era\, this city has been shaped by diverse influences\, resulting in a unique blend of cultures and traditions and by God’s church. As we come together to celebrate our powerful God\, we invite you to immerse yourself in the sights\, sounds\, and flavors of this incredible city.
URL:https://phxicc.org/service/latin-american-missions-conference/
LOCATION:Hilton Mexico City Reforma\, 70 Avenida Juárez\, Ciudad de México\, 06010\, Mexico
ATTACH;FMTTYPE=image/jpeg:https://phxicc.org/wp-content/uploads/2023/07/LAMC.jpg
END:VEVENT
BEGIN:VEVENT
DTSTART;TZID=America/Phoenix:20230719T193000
DTEND;TZID=America/Phoenix:20230719T210000
DTSTAMP:20260425T213029
CREATED:20230718T235938Z
LAST-MODIFIED:20230719T000553Z
UID:18390-1689795000-1689800400@phxicc.org
SUMMARY:Women's Midweek
DESCRIPTION:Women’s Midweek is a vibrant and empowering church event designed specifically for women to gather\, connect\, and grow in their faith. Held in the middle of the week\, it offers a refreshing break from the busyness of everyday life and provides a nurturing environment for women to come together and explore their spirituality. The event features engaging worship sessions\, thought-provoking teachings\, and interactive discussions tailored to address the unique needs and experiences of women. With a focus on building relationships\, Women’s Midweek fosters a sense of community and sisterhood\, offering opportunities for women to share their stories\, support one another\, and find inspiration for their spiritual journeys.
URL:https://phxicc.org/service/womens-midweek/
LOCATION:Phoenix International Christian Church\, 5902 E Camelback Rd\, Phoenix\, AZ\, United States
ATTACH;FMTTYPE=image/jpeg:https://phxicc.org/wp-content/uploads/2023/04/337897988_916938789351740_5565621620864869260_n.jpg
END:VEVENT
BEGIN:VEVENT
DTSTART;TZID=America/Phoenix:20230718T190000
DTEND;TZID=America/Phoenix:20230718T200000
DTSTAMP:20260425T213029
CREATED:20230719T004231Z
LAST-MODIFIED:20230719T004231Z
UID:18412-1689706800-1689710400@phxicc.org
SUMMARY:Straight Up Bible Talk
DESCRIPTION:Weekly Bible discussions for single professionals and married couples in the Tempe area! Contact Christian Ybarra for details.
URL:https://phxicc.org/service/straight-up-bible-talk/
LOCATION:Black Rock Coffee\, 1202 W Broadway Rd\, Tempe\, AZ\, 85282\, United States
ATTACH;FMTTYPE=image/jpeg:https://phxicc.org/wp-content/uploads/2023/06/IMG_4791-scaled.jpg
END:VEVENT
END:VCALENDAR