BEGIN:VCALENDAR
VERSION:2.0
PRODID:-//Phoenix International Christian Church - ECPv6.15.20//NONSGML v1.0//EN
CALSCALE:GREGORIAN
METHOD:PUBLISH
X-WR-CALNAME:Phoenix International Christian Church
X-ORIGINAL-URL:https://phxicc.org
X-WR-CALDESC:Events for Phoenix International Christian Church
REFRESH-INTERVAL;VALUE=DURATION:PT1H
X-Robots-Tag:noindex
X-PUBLISHED-TTL:PT1H
BEGIN:VTIMEZONE
TZID:America/Phoenix
BEGIN:STANDARD
TZOFFSETFROM:-0700
TZOFFSETTO:-0700
TZNAME:MST
DTSTART:20220101T000000
END:STANDARD
END:VTIMEZONE
BEGIN:VEVENT
DTSTART;TZID=America/Phoenix:20230810T193000
DTEND;TZID=America/Phoenix:20230810T193000
DTSTAMP:20260425T181848
CREATED:20230719T042721Z
LAST-MODIFIED:20230719T062217Z
UID:18487-1691695800-1691695800@phxicc.org
SUMMARY:Diamond Brigade – ASU
DESCRIPTION:Weekly Bible discussions for students at Arizona State University! Contact Mike Sibley for details.
URL:https://phxicc.org/service/diamond-brigade-asu-2/
LOCATION:Panera Bread\, 2000 Rio Salado Pkwy\, Tempe\, AZ\, 85281\, United States
ATTACH;FMTTYPE=image/jpeg:https://phxicc.org/wp-content/uploads/2023/06/IMG_4774-scaled.jpg
END:VEVENT
BEGIN:VEVENT
DTSTART;TZID=America/Phoenix:20230810T193000
DTEND;TZID=America/Phoenix:20230810T193000
DTSTAMP:20260425T181848
CREATED:20230719T041244Z
LAST-MODIFIED:20230719T062051Z
UID:18464-1691695800-1691695800@phxicc.org
SUMMARY:The Way Bible Talk
DESCRIPTION:Weekly Bible discussions for single professionals and married couples in the Tempe area! Contact King Burke for details.
URL:https://phxicc.org/service/the-way-bible-talk-2/
LOCATION:Arizona Mills\, 5000 S Arizona Mills Cir.\, Tempe\, AZ\, 85282\, United States
ATTACH;FMTTYPE=image/jpeg:https://phxicc.org/wp-content/uploads/2023/06/IMG_4770-scaled.jpg
END:VEVENT
BEGIN:VEVENT
DTSTART;TZID=America/Phoenix:20230810T193000
DTEND;TZID=America/Phoenix:20230810T193000
DTSTAMP:20260425T181848
CREATED:20230719T041206Z
LAST-MODIFIED:20230719T062013Z
UID:18458-1691695800-1691695800@phxicc.org
SUMMARY:SHIELD Bible Talk
DESCRIPTION:Weekly Bible discussions for single professionals and married couples in the Tempe area! Contact Lem Hardy for details.
URL:https://phxicc.org/service/shield-bible-talk-3/
LOCATION:Gadzooks\, 505 W University Dr\, Tempe\, AZ\, 85281\, United States
ATTACH;FMTTYPE=image/jpeg:https://phxicc.org/wp-content/uploads/2023/06/IMG_4784-scaled.jpg
END:VEVENT
BEGIN:VEVENT
DTSTART;TZID=America/Phoenix:20230810T193000
DTEND;TZID=America/Phoenix:20230810T193000
DTSTAMP:20260425T181848
CREATED:20230719T041105Z
LAST-MODIFIED:20230719T061937Z
UID:18452-1691695800-1691695800@phxicc.org
SUMMARY:Guardienes De La Fe Bible Talk
DESCRIPTION:¡Discusiones bíblicas semanales en español para solteros y parejas casadas en el área de Phoenix! Póngase en contacto con Jorge para obtener más detalles.
URL:https://phxicc.org/service/guardienes-de-la-fe-bible-talk-2/
LOCATION:Ranch Market\, 1602 E Roosevelt St.\, Phoenix\, AZ\, 85006\, United States
ATTACH;FMTTYPE=image/jpeg:https://phxicc.org/wp-content/uploads/2023/06/IMG_4780-scaled.jpg
END:VEVENT
BEGIN:VEVENT
DTSTART;TZID=America/Phoenix:20230810T190000
DTEND;TZID=America/Phoenix:20230810T190000
DTSTAMP:20260425T181848
CREATED:20230719T042705Z
LAST-MODIFIED:20230719T061859Z
UID:18482-1691694000-1691694000@phxicc.org
SUMMARY:Mountain Movers Bible Talk
DESCRIPTION:Weekly Bible discussions for married couples and single professionals alike! Contact Chas Jordan for details.
URL:https://phxicc.org/service/mountain-movers-bible-talk-2/
LOCATION:Habit Burger\, 530 W McDowell Rd\, Phoenix\, AZ\, 85003\, United States
ATTACH;FMTTYPE=image/jpeg:https://phxicc.org/wp-content/uploads/2023/05/IMG_2733-scaled.jpg
END:VEVENT
BEGIN:VEVENT
DTSTART;TZID=America/Phoenix:20230810T190000
DTEND;TZID=America/Phoenix:20230810T190000
DTSTAMP:20260425T181848
CREATED:20230719T042702Z
LAST-MODIFIED:20230719T061728Z
UID:18477-1691694000-1691694000@phxicc.org
SUMMARY:Diamond Brigade – GCU
DESCRIPTION:Weekly Bible discussions for students on Grand Canyon University! Contact Levi Pettigrew for details.
URL:https://phxicc.org/service/diamond-brigade-gcu-2/
LOCATION:GCU\, 3300 W Camelback Rd Student Union GCBC\, 2nd Floor\, Phoenix\, AZ\, 85017\, United States
ATTACH;FMTTYPE=image/jpeg:https://phxicc.org/wp-content/uploads/2023/06/IMG_4787-scaled.jpg
END:VEVENT
BEGIN:VEVENT
DTSTART;TZID=America/Phoenix:20230809T193000
DTEND;TZID=America/Phoenix:20230809T210000
DTSTAMP:20260425T181848
CREATED:20230719T065050Z
LAST-MODIFIED:20230719T065050Z
UID:18597-1691609400-1691614800@phxicc.org
SUMMARY:Men's Midweek
DESCRIPTION:Men’s Midweek is an invigorating church event specifically tailored to meet the needs and challenges faced by men in their spiritual journeys. This midweek gathering offers a dedicated space for men to come together\, build relationships\, and explore their faith in a supportive environment. Through dynamic worship\, relevant teachings\, and interactive discussions\, Men’s Midweek aims to equip men with the tools they need to navigate the complexities of life with courage\, integrity\, and purpose.
URL:https://phxicc.org/service/mens-midweek-2/
LOCATION:Phoenix International Christian Church\, 5902 E Camelback Rd\, Phoenix\, AZ\, United States
ATTACH;FMTTYPE=image/jpeg:https://phxicc.org/wp-content/uploads/2023/04/339664177_919444629100578_4663171761306902214_n.jpg
END:VEVENT
BEGIN:VEVENT
DTSTART;TZID=America/Phoenix:20230808T193000
DTEND;TZID=America/Phoenix:20230808T193000
DTSTAMP:20260425T181848
CREATED:20230719T041310Z
LAST-MODIFIED:20230719T061455Z
UID:18470-1691523000-1691523000@phxicc.org
SUMMARY:Northern Lights
DESCRIPTION:Weekly Bible discussions for mature and/or married christians shining the light of Jesus in Northern Phoenix. Contact Jason McNeil for details.
URL:https://phxicc.org/service/northern-lights-2/
LOCATION:Daily Drip Coffee & Dessert\, 6027 W Bell Rd\, ste b\, Glendale\, AZ\, 85308\, United States
ATTACH;FMTTYPE=image/jpeg:https://phxicc.org/wp-content/uploads/2023/06/IMG_4777-scaled.jpg
END:VEVENT
BEGIN:VEVENT
DTSTART;TZID=America/Phoenix:20230808T193000
DTEND;TZID=America/Phoenix:20230808T193000
DTSTAMP:20260425T181848
CREATED:20230719T035531Z
LAST-MODIFIED:20230719T061324Z
UID:18435-1691523000-1691523000@phxicc.org
SUMMARY:Straight Up Bible Talk
DESCRIPTION:Weekly Bible discussions for single professionals and married couples in the Tempe area! Contact Christian Ybarra for details.
URL:https://phxicc.org/service/straight-up-bible-talk-3/
LOCATION:Black Rock Coffee\, 1202 W Broadway Rd\, Tempe\, AZ\, 85282\, United States
ATTACH;FMTTYPE=image/jpeg:https://phxicc.org/wp-content/uploads/2023/06/IMG_4791-scaled.jpg
END:VEVENT
BEGIN:VEVENT
DTSTART;TZID=America/Phoenix:20230808T120000
DTEND;TZID=America/Phoenix:20230808T120000
DTSTAMP:20260425T181848
CREATED:20230719T040035Z
LAST-MODIFIED:20230719T060926Z
UID:18442-1691496000-1691496000@phxicc.org
SUMMARY:He Knows My Name
DESCRIPTION:Weekly Bible discussions for mature single women. Contact Arleen Proto for details.
URL:https://phxicc.org/service/he-knows-my-name-2/
LOCATION:Alabastar Jar\, 2050 W Dunlap Ave Lot 0235\, Phoenix\, AZ\, 85021\, United States
ATTACH;FMTTYPE=image/jpeg:https://phxicc.org/wp-content/uploads/2023/06/IMG_4798-scaled.jpg
END:VEVENT
BEGIN:VEVENT
DTSTART;TZID=America/Phoenix:20230806T140000
DTEND;TZID=America/Phoenix:20230806T160000
DTSTAMP:20260425T181848
CREATED:20230730T173320Z
LAST-MODIFIED:20230730T173320Z
UID:18662-1691330400-1691337600@phxicc.org
SUMMARY:New Members Orientation
DESCRIPTION:Welcome to our church family! We are beyond thrilled to have you join us on this faith-filled journey. Our New Members Orientation is a laid-back and friendly gathering designed to help you feel right at home. Questions are not just welcomed but encouraged! Feel free to ask anything on your mind\, from church traditions to how you can get involved in the incredible work we do here.
URL:https://phxicc.org/service/new-members-orientation/
LOCATION:Phoenix International Christian Church\, 5902 E Camelback Rd\, Phoenix\, AZ\, United States
ATTACH;FMTTYPE=image/jpeg:https://phxicc.org/wp-content/uploads/2023/03/IMG_1323-scaled.jpg
END:VEVENT
BEGIN:VEVENT
DTSTART;TZID=America/Phoenix:20230806T100000
DTEND;TZID=America/Phoenix:20230806T120000
DTSTAMP:20260425T181848
CREATED:20230719T010232Z
LAST-MODIFIED:20230719T010232Z
UID:18429-1691316000-1691323200@phxicc.org
SUMMARY:Sunday Worship Service
DESCRIPTION:The Sunday Church Service is the heartbeat of the faith community\, where believers come together to worship\, learn\, and experience the presence of God. Held each week\, this sacred gathering provides a time of spiritual rejuvenation and deepening of one’s relationship with God and fellow worshippers. With uplifting music\, heartfelt prayers\, and impactful sermons\, the Sunday Church Service offers a meaningful and transformative experience for all who attend.
URL:https://phxicc.org/service/sunday-worship-service-3/
LOCATION:Phoenix International Christian Church\, 5902 E Camelback Rd\, Phoenix\, AZ\, United States
ATTACH;FMTTYPE=image/jpeg:https://phxicc.org/wp-content/uploads/2023/07/IMG_5022-scaled.jpg
END:VEVENT
BEGIN:VEVENT
DTSTART;TZID=America/Phoenix:20230804T193000
DTEND;TZID=America/Phoenix:20230804T193000
DTSTAMP:20260425T181848
CREATED:20230719T042736Z
LAST-MODIFIED:20230730T033410Z
UID:18491-1691177400-1691177400@phxicc.org
SUMMARY:Freedom Fighters Bible Talk
DESCRIPTION:Weekly Bible discussions for single professionals and married couples in the Tempe area! Contact Kelvin Ashton for details.
URL:https://phxicc.org/service/freedom-fighters-bible-talk-2/
LOCATION:AZ
ATTACH;FMTTYPE=image/jpeg:https://phxicc.org/wp-content/uploads/2023/06/IMG_5125-scaled.jpg
END:VEVENT
BEGIN:VEVENT
DTSTART;TZID=America/Phoenix:20230803T193000
DTEND;TZID=America/Phoenix:20230803T193000
DTSTAMP:20260425T181848
CREATED:20230719T042721Z
LAST-MODIFIED:20230719T060528Z
UID:18486-1691091000-1691091000@phxicc.org
SUMMARY:Diamond Brigade – ASU
DESCRIPTION:Weekly Bible discussions for students at Arizona State University! Contact Mike Sibley for details.
URL:https://phxicc.org/service/diamond-brigade-asu/
LOCATION:Panera Bread\, 2000 Rio Salado Pkwy\, Tempe\, AZ\, 85281\, United States
ATTACH;FMTTYPE=image/jpeg:https://phxicc.org/wp-content/uploads/2023/06/IMG_4774-scaled.jpg
END:VEVENT
BEGIN:VEVENT
DTSTART;TZID=America/Phoenix:20230803T193000
DTEND;TZID=America/Phoenix:20230803T193000
DTSTAMP:20260425T181848
CREATED:20230719T041244Z
LAST-MODIFIED:20230719T060424Z
UID:18463-1691091000-1691091000@phxicc.org
SUMMARY:The Way Bible Talk
DESCRIPTION:Weekly Bible discussions for single professionals and married couples in the Tempe area! Contact King Burke for details.
URL:https://phxicc.org/service/the-way-bible-talk/
LOCATION:Arizona Mills\, 5000 S Arizona Mills Cir.\, Tempe\, AZ\, 85282\, United States
ATTACH;FMTTYPE=image/jpeg:https://phxicc.org/wp-content/uploads/2023/06/IMG_4770-scaled.jpg
END:VEVENT
BEGIN:VEVENT
DTSTART;TZID=America/Phoenix:20230803T193000
DTEND;TZID=America/Phoenix:20230803T193000
DTSTAMP:20260425T181848
CREATED:20230719T041206Z
LAST-MODIFIED:20230719T060335Z
UID:18457-1691091000-1691091000@phxicc.org
SUMMARY:SHIELD Bible Talk
DESCRIPTION:Weekly Bible discussions for single professionals and married couples in the Tempe area! Contact Lem Hardy for details.
URL:https://phxicc.org/service/shield-bible-talk-2/
LOCATION:Gadzooks\, 505 W University Dr\, Tempe\, AZ\, 85281\, United States
ATTACH;FMTTYPE=image/jpeg:https://phxicc.org/wp-content/uploads/2023/06/IMG_4784-scaled.jpg
END:VEVENT
BEGIN:VEVENT
DTSTART;TZID=America/Phoenix:20230803T193000
DTEND;TZID=America/Phoenix:20230803T193000
DTSTAMP:20260425T181848
CREATED:20230719T041105Z
LAST-MODIFIED:20230719T060204Z
UID:18451-1691091000-1691091000@phxicc.org
SUMMARY:Guardienes De La Fe Bible Talk
DESCRIPTION:¡Discusiones bíblicas semanales en español para solteros y parejas casadas en el área de Phoenix! Póngase en contacto con Jorge para obtener más detalles.
URL:https://phxicc.org/service/guardienes-de-la-fe-bible-talk/
LOCATION:Ranch Market\, 1602 E Roosevelt St.\, Phoenix\, AZ\, 85006\, United States
ATTACH;FMTTYPE=image/jpeg:https://phxicc.org/wp-content/uploads/2023/06/IMG_4780-scaled.jpg
END:VEVENT
BEGIN:VEVENT
DTSTART;TZID=America/Phoenix:20230803T190000
DTEND;TZID=America/Phoenix:20230803T190000
DTSTAMP:20260425T181848
CREATED:20230719T042705Z
LAST-MODIFIED:20230719T060014Z
UID:18481-1691089200-1691089200@phxicc.org
SUMMARY:Mountain Movers Bible Talk
DESCRIPTION:Weekly Bible discussions for married couples and single professionals alike! Contact Chas Jordan for details.
URL:https://phxicc.org/service/mountain-movers-bible-talk/
LOCATION:Habit Burger\, 530 W McDowell Rd\, Phoenix\, AZ\, 85003\, United States
ATTACH;FMTTYPE=image/jpeg:https://phxicc.org/wp-content/uploads/2023/05/IMG_2733-scaled.jpg
END:VEVENT
BEGIN:VEVENT
DTSTART;TZID=America/Phoenix:20230803T190000
DTEND;TZID=America/Phoenix:20230803T190000
DTSTAMP:20260425T181848
CREATED:20230719T042702Z
LAST-MODIFIED:20230719T055807Z
UID:18476-1691089200-1691089200@phxicc.org
SUMMARY:Diamond Brigade – GCU
DESCRIPTION:Weekly Bible discussions for students on Grand Canyon University! Contact Levi Pettigrew for details.
URL:https://phxicc.org/service/diamond-brigade-gcu/
LOCATION:GCU\, 3300 W Camelback Rd Student Union GCBC\, 2nd Floor\, Phoenix\, AZ\, 85017\, United States
ATTACH;FMTTYPE=image/jpeg:https://phxicc.org/wp-content/uploads/2023/06/IMG_4787-scaled.jpg
END:VEVENT
BEGIN:VEVENT
DTSTART;TZID=America/Phoenix:20230802T193000
DTEND;TZID=America/Phoenix:20230802T210000
DTSTAMP:20260425T181848
CREATED:20230719T001127Z
LAST-MODIFIED:20230719T063829Z
UID:18396-1691004600-1691010000@phxicc.org
SUMMARY:Women's Midweek
DESCRIPTION:Women’s Midweek is a vibrant and empowering church event designed specifically for women to gather\, connect\, and grow in their faith. Held in the middle of the week\, it offers a refreshing break from the busyness of everyday life and provides a nurturing environment for women to come together and explore their spirituality. The event features engaging worship sessions\, thought-provoking teachings\, and interactive discussions tailored to address the unique needs and experiences of women. With a focus on building relationships\, Women’s Midweek fosters a sense of community and sisterhood\, offering opportunities for women to share their stories\, support one another\, and find inspiration for their spiritual journeys.
URL:https://phxicc.org/service/womens-midweek-2/
LOCATION:Phoenix International Christian Church\, 5902 E Camelback Rd\, Phoenix\, AZ\, United States
ATTACH;FMTTYPE=image/jpeg:https://phxicc.org/wp-content/uploads/2023/04/337897988_916938789351740_5565621620864869260_n.jpg
END:VEVENT
BEGIN:VEVENT
DTSTART;TZID=America/Phoenix:20230801T193000
DTEND;TZID=America/Phoenix:20230801T193000
DTSTAMP:20260425T181848
CREATED:20230719T041310Z
LAST-MODIFIED:20230719T055623Z
UID:18469-1690918200-1690918200@phxicc.org
SUMMARY:Northern Lights
DESCRIPTION:Weekly Bible discussions for mature and/or married christians shining the light of Jesus in Northern Phoenix. Contact Jason McNeil for details.
URL:https://phxicc.org/service/northern-lights/
LOCATION:Daily Drip Coffee & Dessert\, 6027 W Bell Rd\, ste b\, Glendale\, AZ\, 85308\, United States
ATTACH;FMTTYPE=image/jpeg:https://phxicc.org/wp-content/uploads/2023/06/IMG_4777-scaled.jpg
END:VEVENT
BEGIN:VEVENT
DTSTART;TZID=America/Phoenix:20230801T193000
DTEND;TZID=America/Phoenix:20230801T193000
DTSTAMP:20260425T181848
CREATED:20230719T035531Z
LAST-MODIFIED:20230719T055454Z
UID:18434-1690918200-1690918200@phxicc.org
SUMMARY:Straight Up Bible Talk
DESCRIPTION:Weekly Bible discussions for single professionals and married couples in the Tempe area! Contact Christian Ybarra for details.
URL:https://phxicc.org/service/straight-up-bible-talk-2/
LOCATION:Black Rock Coffee\, 1202 W Broadway Rd\, Tempe\, AZ\, 85282\, United States
ATTACH;FMTTYPE=image/jpeg:https://phxicc.org/wp-content/uploads/2023/06/IMG_4791-scaled.jpg
END:VEVENT
BEGIN:VEVENT
DTSTART;TZID=America/Phoenix:20230801T120000
DTEND;TZID=America/Phoenix:20230801T120000
DTSTAMP:20260425T181848
CREATED:20230719T040035Z
LAST-MODIFIED:20230719T055357Z
UID:18441-1690891200-1690891200@phxicc.org
SUMMARY:He Knows My Name
DESCRIPTION:Weekly Bible discussions for mature single women. Contact Arleen Proto for details.
URL:https://phxicc.org/service/he-knows-my-name/
LOCATION:Alabastar Jar\, 2050 W Dunlap Ave Lot 0235\, Phoenix\, AZ\, 85021\, United States
ATTACH;FMTTYPE=image/jpeg:https://phxicc.org/wp-content/uploads/2023/06/IMG_4798-scaled.jpg
END:VEVENT
BEGIN:VEVENT
DTSTART;TZID=America/Phoenix:20230730T100000
DTEND;TZID=America/Phoenix:20230730T120000
DTSTAMP:20260425T181848
CREATED:20230719T005935Z
LAST-MODIFIED:20230730T032218Z
UID:18427-1690711200-1690718400@phxicc.org
SUMMARY:North & South Region Sunday Worship Service
DESCRIPTION:The Sunday Church Service is the heartbeat of the faith community\, where believers come together to worship\, learn\, and experience the presence of God. Held each week\, this sacred gathering provides a time of spiritual rejuvenation and deepening of one’s relationship with God and fellow worshippers. With uplifting music\, heartfelt prayers\, and impactful sermons\, the Sunday Church Service offers a meaningful and transformative experience for all who attend.
URL:https://phxicc.org/service/sunday-worship-service-2/
LOCATION:Phoenix International Christian Church\, 5902 E Camelback Rd\, Phoenix\, AZ\, United States
ATTACH;FMTTYPE=image/jpeg:https://phxicc.org/wp-content/uploads/2023/07/IMG_5065-scaled.jpg
END:VEVENT
BEGIN:VEVENT
DTSTART;TZID=America/Phoenix:20230730T100000
DTEND;TZID=America/Phoenix:20230730T110000
DTSTAMP:20260425T181848
CREATED:20230730T032448Z
LAST-MODIFIED:20230730T032659Z
UID:18657-1690711200-1690714800@phxicc.org
SUMMARY:East Region Sunday Worship Service
DESCRIPTION:
URL:https://phxicc.org/service/east-region-sunday-worship-service/
LOCATION:ASU Tempe Campus\, 400 E Orange\, Tempe\, AZ\, 85281\, United States
ATTACH;FMTTYPE=image/jpeg:https://phxicc.org/wp-content/uploads/2023/06/IMG_4774-scaled.jpg
END:VEVENT
BEGIN:VEVENT
DTSTART;TZID=America/Phoenix:20230726T193000
DTEND;TZID=America/Phoenix:20230726T210000
DTSTAMP:20260425T181848
CREATED:20230719T000824Z
LAST-MODIFIED:20230719T000836Z
UID:18394-1690399800-1690405200@phxicc.org
SUMMARY:Men's Midweek
DESCRIPTION:Men’s Midweek is an invigorating church event specifically tailored to meet the needs and challenges faced by men in their spiritual journeys. This midweek gathering offers a dedicated space for men to come together\, build relationships\, and explore their faith in a supportive environment. Through dynamic worship\, relevant teachings\, and interactive discussions\, Men’s Midweek aims to equip men with the tools they need to navigate the complexities of life with courage\, integrity\, and purpose.
URL:https://phxicc.org/service/mens-midweek/
LOCATION:Phoenix International Christian Church\, 5902 E Camelback Rd\, Phoenix\, AZ\, United States
ATTACH;FMTTYPE=image/jpeg:https://phxicc.org/wp-content/uploads/2023/02/SETH-NAVAEREZ-1-scaled.jpg
END:VEVENT
BEGIN:VEVENT
DTSTART;VALUE=DATE:20230726
DTEND;VALUE=DATE:20230729
DTSTAMP:20260425T181848
CREATED:20230719T072517Z
LAST-MODIFIED:20230719T072548Z
UID:18610-1690329600-1690588799@phxicc.org
SUMMARY:International Campus Leadership Seminar
DESCRIPTION:International Campus Leadership Seminar (ICLS) entitled “Filled with Awe” \nWe are thrilled to have you all here in the vibrant and culturally rich Mexico City. As the heart of Mexico and one of the largest cities in the world\, Mexico City has a history and cultural heritage that spans back thousands of years. From the ancient Aztec civilization to the Spanish colonial era\, this city has been shaped by diverse influences\, resulting in a unique blend of cultures and traditions and by God’s church. As we come together to celebrate our powerful God\, we invite you to immerse yourself in the sights\, sounds\, and flavors of this incredible city.
URL:https://phxicc.org/service/international-campus-leadership-seminar/
LOCATION:Hilton Mexico City Reforma\, 70 Avenida Juárez\, Ciudad de México\, 06010\, Mexico
ATTACH;FMTTYPE=image/jpeg:https://phxicc.org/wp-content/uploads/2023/07/LAMC.jpg
END:VEVENT
BEGIN:VEVENT
DTSTART;TZID=America/Phoenix:20230725T193000
DTEND;TZID=America/Phoenix:20230725T203000
DTSTAMP:20260425T181848
CREATED:20230719T005526Z
LAST-MODIFIED:20230719T005526Z
UID:18424-1690313400-1690317000@phxicc.org
SUMMARY:Northern Lights Bible Talk
DESCRIPTION:Weekly Bible discussions for mature and/or married Christians shining the light of Jesus in Northern Phoenix. Contact Jason McNeil for details.
URL:https://phxicc.org/service/northern-lights-bible-talk/
LOCATION:Daily Drip Coffee & Dessert\, 6027 W Bell Rd\, ste b\, Glendale\, AZ\, 85308\, United States
ATTACH;FMTTYPE=image/jpeg:https://phxicc.org/wp-content/uploads/2023/06/IMG_4777-scaled.jpg
END:VEVENT
BEGIN:VEVENT
DTSTART;TZID=America/Phoenix:20230725T120000
DTEND;TZID=America/Phoenix:20230725T130000
DTSTAMP:20260425T181848
CREATED:20230719T005147Z
LAST-MODIFIED:20230719T005147Z
UID:18421-1690286400-1690290000@phxicc.org
SUMMARY:He Knows My Name Bible Talk
DESCRIPTION:Weekly Bible discussions for mature single women. Contact Arleen Proto for details.
URL:https://phxicc.org/service/he-knows-my-name-bible-talk/
LOCATION:Alabastar Jar\, 2050 W Dunlap Ave Lot 0235\, Phoenix\, AZ\, 85021\, United States
ATTACH;FMTTYPE=image/jpeg:https://phxicc.org/wp-content/uploads/2023/06/IMG_4798-scaled.jpg
END:VEVENT
BEGIN:VEVENT
DTSTART;TZID=America/Phoenix:20230723T100000
DTEND;TZID=America/Phoenix:20230723T120000
DTSTAMP:20260425T181848
CREATED:20230223T011005Z
LAST-MODIFIED:20230719T001424Z
UID:16306-1690106400-1690113600@phxicc.org
SUMMARY:Sunday Worship Service
DESCRIPTION:The Sunday Church Service is the heartbeat of the faith community\, where believers come together to worship\, learn\, and experience the presence of God. Held each week\, this sacred gathering provides a time of spiritual rejuvenation and deepening of one’s relationship with God and fellow worshippers. With uplifting music\, heartfelt prayers\, and impactful sermons\, the Sunday Church Service offers a meaningful and transformative experience for all who attend.
URL:https://phxicc.org/service/sunday-worship-service/
LOCATION:Phoenix International Christian Church\, 5902 E Camelback Rd\, Phoenix\, AZ\, United States
ATTACH;FMTTYPE=image/jpeg:https://phxicc.org/wp-content/uploads/2023/07/IMG_5022-scaled.jpg
END:VEVENT
END:VCALENDAR