BEGIN:VCALENDAR
VERSION:2.0
PRODID:-//Phoenix International Christian Church - ECPv6.15.20//NONSGML v1.0//EN
CALSCALE:GREGORIAN
METHOD:PUBLISH
X-ORIGINAL-URL:https://phxicc.org
X-WR-CALDESC:Events for Phoenix International Christian Church
REFRESH-INTERVAL;VALUE=DURATION:PT1H
X-Robots-Tag:noindex
X-PUBLISHED-TTL:PT1H
BEGIN:VTIMEZONE
TZID:America/Phoenix
BEGIN:STANDARD
TZOFFSETFROM:-0700
TZOFFSETTO:-0700
TZNAME:MST
DTSTART:20250101T000000
END:STANDARD
END:VTIMEZONE
BEGIN:VEVENT
DTSTART;TZID=America/Phoenix:20260909T193000
DTEND;TZID=America/Phoenix:20260909T210000
DTSTAMP:20260425T051522
CREATED:20260405T052139Z
LAST-MODIFIED:20260405T052139Z
UID:19252-1788982200-1788987600@phxicc.org
SUMMARY:Women's Midweek Service
DESCRIPTION:Ladies\, join us for a soul-nourishing midweek gathering! Your presence and insights are cherished as we explore how we\, as a sisterhood\, can contribute to the well-being of our faith community. Let’s grow together in faith\, fellowship\, and support. See you at our women’s midweek service!
URL:https://phxicc.org/service/womens-midweek-service-10/
LOCATION:Phoenix International Christian Church\, 5902 E Camelback Rd\, Phoenix\, AZ\, United States
END:VEVENT
BEGIN:VEVENT
DTSTART;TZID=America/Phoenix:20260916T193000
DTEND;TZID=America/Phoenix:20260916T210000
DTSTAMP:20260425T051522
CREATED:20260405T042657Z
LAST-MODIFIED:20260405T042657Z
UID:19213-1789587000-1789592400@phxicc.org
SUMMARY:Men's Midweek Services
DESCRIPTION:Gentlemen\, step into a space of strength and camaraderie at Midweek Men’s Gathering! Join us for an evening tailored for the modern man seeking inspiration and connection. As we gather in unity\, we’ll engage in a dynamic devotional themed around embracing new horizons and fresh opportunities. This is a chance for fellowship\, honest conversations\, and building bonds.
URL:https://phxicc.org/service/mens-midweek-services-5/
LOCATION:AZ
END:VEVENT
BEGIN:VEVENT
DTSTART;TZID=America/Phoenix:20260923T193000
DTEND;TZID=America/Phoenix:20260923T210000
DTSTAMP:20260425T051522
CREATED:20260405T052230Z
LAST-MODIFIED:20260405T052230Z
UID:19254-1790191800-1790197200@phxicc.org
SUMMARY:Women's Midweek Service
DESCRIPTION:Ladies\, join us for a soul-nourishing midweek gathering! Your presence and insights are cherished as we explore how we\, as a sisterhood\, can contribute to the well-being of our faith community. Let’s grow together in faith\, fellowship\, and support. See you at our women’s midweek service!
URL:https://phxicc.org/service/womens-midweek-service-11/
LOCATION:Phoenix International Christian Church\, 5902 E Camelback Rd\, Phoenix\, AZ\, United States
END:VEVENT
BEGIN:VEVENT
DTSTART;TZID=America/Phoenix:20260930T193000
DTEND;TZID=America/Phoenix:20260930T210000
DTSTAMP:20260425T051522
CREATED:20260405T042756Z
LAST-MODIFIED:20260405T042756Z
UID:19215-1790796600-1790802000@phxicc.org
SUMMARY:Men's Midweek Services
DESCRIPTION:Gentlemen\, step into a space of strength and camaraderie at Midweek Men’s Gathering! Join us for an evening tailored for the modern man seeking inspiration and connection. As we gather in unity\, we’ll engage in a dynamic devotional themed around embracing new horizons and fresh opportunities. This is a chance for fellowship\, honest conversations\, and building bonds.
URL:https://phxicc.org/service/mens-midweek-services-6/
LOCATION:Phoenix International Christian Church\, 5902 E Camelback Rd\, Phoenix\, AZ\, United States
END:VEVENT
BEGIN:VEVENT
DTSTART;TZID=America/Phoenix:20261007T193000
DTEND;TZID=America/Phoenix:20261007T210000
DTSTAMP:20260425T051522
CREATED:20260405T052341Z
LAST-MODIFIED:20260405T052341Z
UID:19256-1791401400-1791406800@phxicc.org
SUMMARY:Women's Midweek Service
DESCRIPTION:Ladies\, join us for a soul-nourishing midweek gathering! Your presence and insights are cherished as we explore how we\, as a sisterhood\, can contribute to the well-being of our faith community. Let’s grow together in faith\, fellowship\, and support. See you at our women’s midweek service!
URL:https://phxicc.org/service/womens-midweek-service-12/
LOCATION:Phoenix International Christian Church\, 5902 E Camelback Rd\, Phoenix\, AZ\, United States
END:VEVENT
BEGIN:VEVENT
DTSTART;TZID=America/Phoenix:20261014T193000
DTEND;TZID=America/Phoenix:20261014T210000
DTSTAMP:20260425T051522
CREATED:20260405T042858Z
LAST-MODIFIED:20260405T042858Z
UID:19217-1792006200-1792011600@phxicc.org
SUMMARY:Men's Midweek Services
DESCRIPTION:Gentlemen\, step into a space of strength and camaraderie at Midweek Men’s Gathering! Join us for an evening tailored for the modern man seeking inspiration and connection. As we gather in unity\, we’ll engage in a dynamic devotional themed around embracing new horizons and fresh opportunities. This is a chance for fellowship\, honest conversations\, and building bonds.
URL:https://phxicc.org/service/mens-midweek-services-7/
LOCATION:Phoenix International Christian Church\, 5902 E Camelback Rd\, Phoenix\, AZ\, United States
END:VEVENT
BEGIN:VEVENT
DTSTART;TZID=America/Phoenix:20261021T193000
DTEND;TZID=America/Phoenix:20261021T210000
DTSTAMP:20260425T051522
CREATED:20260405T052431Z
LAST-MODIFIED:20260405T052431Z
UID:19258-1792611000-1792616400@phxicc.org
SUMMARY:Women's Midweek Service
DESCRIPTION:Ladies\, join us for a soul-nourishing midweek gathering! Your presence and insights are cherished as we explore how we\, as a sisterhood\, can contribute to the well-being of our faith community. Let’s grow together in faith\, fellowship\, and support. See you at our women’s midweek service!
URL:https://phxicc.org/service/womens-midweek-service-13/
LOCATION:Phoenix International Christian Church\, 5902 E Camelback Rd\, Phoenix\, AZ\, United States
END:VEVENT
BEGIN:VEVENT
DTSTART;TZID=America/Phoenix:20261028T193000
DTEND;TZID=America/Phoenix:20261028T210000
DTSTAMP:20260425T051522
CREATED:20260405T043028Z
LAST-MODIFIED:20260405T043028Z
UID:19219-1793215800-1793221200@phxicc.org
SUMMARY:Men's Midweek Service
DESCRIPTION:Gentlemen\, step into a space of strength and camaraderie at Midweek Men’s Gathering! Join us for an evening tailored for the modern man seeking inspiration and connection. As we gather in unity\, we’ll engage in a dynamic devotional themed around embracing new horizons and fresh opportunities. This is a chance for fellowship\, honest conversations\, and building bonds.
URL:https://phxicc.org/service/mens-midweek-service-9/
LOCATION:Phoenix International Christian Church\, 5902 E Camelback Rd\, Phoenix\, AZ\, United States
END:VEVENT
BEGIN:VEVENT
DTSTART;TZID=America/Phoenix:20261104T193000
DTEND;TZID=America/Phoenix:20261104T210000
DTSTAMP:20260425T051522
CREATED:20260405T052539Z
LAST-MODIFIED:20260405T052539Z
UID:19260-1793820600-1793826000@phxicc.org
SUMMARY:Women's Midweek Service
DESCRIPTION:Ladies\, join us for a soul-nourishing midweek gathering! Your presence and insights are cherished as we explore how we\, as a sisterhood\, can contribute to the well-being of our faith community. Let’s grow together in faith\, fellowship\, and support. See you at our women’s midweek service!
URL:https://phxicc.org/service/womens-midweek-service-14/
LOCATION:Phoenix International Christian Church\, 5902 E Camelback Rd\, Phoenix\, AZ\, United States
END:VEVENT
BEGIN:VEVENT
DTSTART;TZID=America/Phoenix:20261111T193000
DTEND;TZID=America/Phoenix:20261111T210000
DTSTAMP:20260425T051522
CREATED:20260405T043152Z
LAST-MODIFIED:20260405T043152Z
UID:19221-1794425400-1794430800@phxicc.org
SUMMARY:Men's Midweek Service
DESCRIPTION:Gentlemen\, step into a space of strength and camaraderie at Midweek Men’s Gathering! Join us for an evening tailored for the modern man seeking inspiration and connection. As we gather in unity\, we’ll engage in a dynamic devotional themed around embracing new horizons and fresh opportunities. This is a chance for fellowship\, honest conversations\, and building bonds.
URL:https://phxicc.org/service/mens-midweek-service-10/
LOCATION:Phoenix International Christian Church\, 5902 E Camelback Rd\, Phoenix\, AZ\, United States
END:VEVENT
BEGIN:VEVENT
DTSTART;TZID=America/Phoenix:20261118T193000
DTEND;TZID=America/Phoenix:20261118T210000
DTSTAMP:20260425T051522
CREATED:20260405T052639Z
LAST-MODIFIED:20260405T052639Z
UID:19262-1795030200-1795035600@phxicc.org
SUMMARY:Women's Midweek Service
DESCRIPTION:Ladies\, join us for a soul-nourishing midweek gathering! Your presence and insights are cherished as we explore how we\, as a sisterhood\, can contribute to the well-being of our faith community. Let’s grow together in faith\, fellowship\, and support. See you at our women’s midweek service!
URL:https://phxicc.org/service/womens-midweek-service-15/
LOCATION:Phoenix International Christian Church\, 5902 E Camelback Rd\, Phoenix\, AZ\, United States
END:VEVENT
BEGIN:VEVENT
DTSTART;TZID=America/Phoenix:20261202T193000
DTEND;TZID=America/Phoenix:20261202T210000
DTSTAMP:20260425T051522
CREATED:20260405T052803Z
LAST-MODIFIED:20260405T052803Z
UID:19265-1796239800-1796245200@phxicc.org
SUMMARY:Women's Midweek Service
DESCRIPTION:Ladies\, join us for a soul-nourishing midweek gathering! Your presence and insights are cherished as we explore how we\, as a sisterhood\, can contribute to the well-being of our faith community. Let’s grow together in faith\, fellowship\, and support. See you at our women’s midweek service!
URL:https://phxicc.org/service/womens-midweek-service-16/
LOCATION:Phoenix International Christian Church\, 5902 E Camelback Rd\, Phoenix\, AZ\, United States
END:VEVENT
BEGIN:VEVENT
DTSTART;TZID=America/Phoenix:20261209T193000
DTEND;TZID=America/Phoenix:20261209T210000
DTSTAMP:20260425T051522
CREATED:20260405T043402Z
LAST-MODIFIED:20260405T043402Z
UID:19223-1796844600-1796850000@phxicc.org
SUMMARY:Men's Midweek Service
DESCRIPTION:Gentlemen\, step into a space of strength and camaraderie at Midweek Men’s Gathering! Join us for an evening tailored for the modern man seeking inspiration and connection. As we gather in unity\, we’ll engage in a dynamic devotional themed around embracing new horizons and fresh opportunities. This is a chance for fellowship\, honest conversations\, and building bonds.
URL:https://phxicc.org/service/mens-midweek-service-11/
LOCATION:Phoenix International Christian Church\, 5902 E Camelback Rd\, Phoenix\, AZ\, United States
END:VEVENT
END:VCALENDAR